BEGIN:VCALENDAR
VERSION:2.0
PRODID:-//Klinikum Lippe - ECPv6.15.17.1//NONSGML v1.0//EN
CALSCALE:GREGORIAN
METHOD:PUBLISH
X-ORIGINAL-URL:https://www.klinikum-lippe.de
X-WR-CALDESC:Veranstaltungen für Klinikum Lippe
REFRESH-INTERVAL;VALUE=DURATION:PT1H
X-Robots-Tag:noindex
X-PUBLISHED-TTL:PT1H
BEGIN:VTIMEZONE
TZID:Europe/Berlin
BEGIN:DAYLIGHT
TZOFFSETFROM:+0100
TZOFFSETTO:+0200
TZNAME:CEST
DTSTART:20240331T010000
END:DAYLIGHT
BEGIN:STANDARD
TZOFFSETFROM:+0200
TZOFFSETTO:+0100
TZNAME:CET
DTSTART:20241027T010000
END:STANDARD
BEGIN:DAYLIGHT
TZOFFSETFROM:+0100
TZOFFSETTO:+0200
TZNAME:CEST
DTSTART:20250330T010000
END:DAYLIGHT
BEGIN:STANDARD
TZOFFSETFROM:+0200
TZOFFSETTO:+0100
TZNAME:CET
DTSTART:20251026T010000
END:STANDARD
BEGIN:DAYLIGHT
TZOFFSETFROM:+0100
TZOFFSETTO:+0200
TZNAME:CEST
DTSTART:20260329T010000
END:DAYLIGHT
BEGIN:STANDARD
TZOFFSETFROM:+0200
TZOFFSETTO:+0100
TZNAME:CET
DTSTART:20261025T010000
END:STANDARD
END:VTIMEZONE
BEGIN:VEVENT
DTSTART;TZID=Europe/Berlin:20251125T180000
DTEND;TZID=Europe/Berlin:20251125T193000
DTSTAMP:20260422T111513
CREATED:20250723T083603Z
LAST-MODIFIED:20250723T083603Z
UID:10001029-1764093600-1764099000@www.klinikum-lippe.de
SUMMARY:Chronische Lungenerkrankungen: Update Asthma
DESCRIPTION:Die rasante medizinische Entwicklung betrifft auch Volkskrankheiten wie Asthma. Betroffene managen ihre Erkrankung häufig sehr erfahren und entsprechend routiniert. An diesem Abend beschäftigen wir uns mit der Frage\, welche Neuigkeiten es zum Thema Asthma gibt\, sowohl bezogen auf die Diagnostik als auch auf die therapeutischen insbesondere medikamentösen Möglichkeiten. \nDr. med. Hagen Vorwerk\, Chefarzt der Klinik für Pneumologie\, Beatmungs- und Schlafmedizin\, und Atmungstherapeutin Sandra Siegert  informieren Interessierte in diesem praxisnahen Vortrag über das Thema. \nFragen sind ausdrücklich erwünscht. \nUm Voranmeldung wird gebeten: zur Anmeldung \n\nEine Veranstaltung in Zusammenarbeit mit der Volkshochschule Detmold-Lemgo.
URL:https://www.klinikum-lippe.de/veranstaltung/chronische-lungenerkrankungen-update-asthma/
LOCATION:Lemgo\, VHS\, Kramerstraße 5\, Kramerstraße 5\, Lemgo\, 32657
CATEGORIES:Klinik für Pneumologie, Beatmungs- und Schlafmedizin,Klinik für Thoraxchirurgie,Lungenkrebszentrum Lippe-Weserbergland,Patienten,VHS Detmold-Lemgo
ATTACH;FMTTYPE=image/png:https://www.klinikum-lippe.de/wp-content/uploads/2025/07/VHS_Kooperation.png
END:VEVENT
END:VCALENDAR