BEGIN:VCALENDAR
VERSION:2.0
PRODID:-//Klinikum Lippe - ECPv6.15.17.1//NONSGML v1.0//EN
CALSCALE:GREGORIAN
METHOD:PUBLISH
X-ORIGINAL-URL:https://www.klinikum-lippe.de
X-WR-CALDESC:Veranstaltungen für Klinikum Lippe
REFRESH-INTERVAL;VALUE=DURATION:PT1H
X-Robots-Tag:noindex
X-PUBLISHED-TTL:PT1H
BEGIN:VTIMEZONE
TZID:Europe/Berlin
BEGIN:DAYLIGHT
TZOFFSETFROM:+0100
TZOFFSETTO:+0200
TZNAME:CEST
DTSTART:20230326T010000
END:DAYLIGHT
BEGIN:STANDARD
TZOFFSETFROM:+0200
TZOFFSETTO:+0100
TZNAME:CET
DTSTART:20231029T010000
END:STANDARD
BEGIN:DAYLIGHT
TZOFFSETFROM:+0100
TZOFFSETTO:+0200
TZNAME:CEST
DTSTART:20240331T010000
END:DAYLIGHT
BEGIN:STANDARD
TZOFFSETFROM:+0200
TZOFFSETTO:+0100
TZNAME:CET
DTSTART:20241027T010000
END:STANDARD
BEGIN:DAYLIGHT
TZOFFSETFROM:+0100
TZOFFSETTO:+0200
TZNAME:CEST
DTSTART:20250330T010000
END:DAYLIGHT
BEGIN:STANDARD
TZOFFSETFROM:+0200
TZOFFSETTO:+0100
TZNAME:CET
DTSTART:20251026T010000
END:STANDARD
BEGIN:DAYLIGHT
TZOFFSETFROM:+0100
TZOFFSETTO:+0200
TZNAME:CEST
DTSTART:20260329T010000
END:DAYLIGHT
BEGIN:STANDARD
TZOFFSETFROM:+0200
TZOFFSETTO:+0100
TZNAME:CET
DTSTART:20261025T010000
END:STANDARD
END:VTIMEZONE
BEGIN:VEVENT
DTSTART;TZID=Europe/Berlin:20250521T170000
DTEND;TZID=Europe/Berlin:20250521T193000
DTSTAMP:20260419T164415
CREATED:20250429T061739Z
LAST-MODIFIED:20250429T061855Z
UID:10000874-1747846800-1747855800@www.klinikum-lippe.de
SUMMARY:Fortbildung der Klinik für Kinder- und Jugendpsychiatrie: Tiergestützte Therapie
DESCRIPTION:Sehr geehrte Damen und Herren\, \nwir laden Sie herzlich zur Fortbildung „Tiergestützte Therapie mit Kindern und Jugendlichen“ ein.Die Veranstaltung findet am Mittwoch\, den 21. Mai 2025\, von 17.00 bis 19.30 Uhr in der Klinik für Kinder- und Jugendpsychiatrie\, Psychotherapie und Psychosomatik am Standort Bad Salzuflen statt. \nReferent des Abends ist Doktorand Christopher Kopmann aus der KJP Bad Salzuflen. Im Fokus steht der Einsatz tiergestützter Therapieformen in der Arbeit mit Kindern und Jugendlichen – ein spannender Einblick in ein wachsendes therapeutisches Feld. \nDie Zertifizierung der Veranstaltung wurde bei der Ärztekammer Westfalen-Lippe beantragt. \nWir freuen uns auf einen fachlichen Austausch in kollegialer Atmosphäre und laden Sie herzlich zur Diskussion ein. \nBitte melden Sie sich bis zum 14. Mai 2025 per E-Mail an: kjp@klinikum-lippe.de \nIhr Team der Klinik für Kinder- und Jugendpsychiatrie\, Psychotherapie und Psychosomatik
URL:https://www.klinikum-lippe.de/veranstaltung/fortbildung-kjp-tiergestuetztetherapie/
LOCATION:Klinik für Kinder- und Jugendpsychiatrie\, Heldmanstraße 45\, Bad Salzuflen\, 32108
CATEGORIES:Experten,Kinder- und Jugendpsychiatrie
ATTACH;FMTTYPE=image/png:https://www.klinikum-lippe.de/wp-content/uploads/2022/06/Fortbildung.png
ORGANIZER;CN="Klinik f%C3%BCr Kinder- und Jugendpsychiatrie":MAILTO:kjp@klinikum-lippe.de
END:VEVENT
BEGIN:VEVENT
DTSTART;TZID=Europe/Berlin:20250319T140000
DTEND;TZID=Europe/Berlin:20250319T163000
DTSTAMP:20260419T164415
CREATED:20250310T081823Z
LAST-MODIFIED:20250310T081823Z
UID:10000867-1742392800-1742401800@www.klinikum-lippe.de
SUMMARY:Fortbildung: Störungen des Lese- und Schriftspracherwerbs
DESCRIPTION:Fortbildung:\n„Schreiben ist leicht. Man muss nur die falschen Wörter weglassen.“\nStörungen des Lese- und Schriftspracherwerbs – Diagnostik und Therapie als Schwerpunkt der klinischen Linguistik \nDie Klinik für Kinder- und Jugendpsychiatrie\, Psychotherapie und Psychosomatik lädt herzlich zur Fortbildung „Schreiben ist leicht. Man muss nur die falschen Wörter weglassen.“ ein. Die Veranstaltung richtet sich an Fachkräfte aus dem medizinischen und therapeutischen Bereich sowie alle Interessierten. \nInhaltlich steht die Diagnostik und Therapie von Störungen des Lese- und Schriftspracherwerbs im Fokus\, ein zentraler Aspekt der klinischen Linguistik in der Kinder- und Jugendpsychiatrie. \nReferentinnen:\n\nProf. Dr. Martina Hielscher-Fastabend\, Universität Bielefeld\nAlexandra Laubenstein\, Klinische Linguistin\, KJP Bad Salzuflen\n\nDie Zertifizierung der Veranstaltung ist bei der Ärztekammer Westfalen-Lippe beantragt. Wir freuen uns auf einen spannenden fachlichen Austausch! \nAnmeldung: Bitte melden Sie sich bis zum 14. März 2025 unter kjp@klinikum-lippe.de an.
URL:https://www.klinikum-lippe.de/veranstaltung/fortbildung-stoerungen-des-lese-und-schriftspracherwerbs/
LOCATION:Klinik für Kinder- und Jugendpsychiatrie\, Heldmanstraße 45\, Bad Salzuflen\, 32108
CATEGORIES:Experten,Kinder- und Jugendpsychiatrie
ATTACH;FMTTYPE=image/jpeg:https://www.klinikum-lippe.de/wp-content/uploads/2025/03/20250319_FB_KJP_LRS-scaled.jpg
ORGANIZER;CN="Klinik f%C3%BCr Kinder- und Jugendpsychiatrie":MAILTO:kjp@klinikum-lippe.de
END:VEVENT
BEGIN:VEVENT
DTSTART;TZID=Europe/Berlin:20240619T140000
DTEND;TZID=Europe/Berlin:20240619T163000
DTSTAMP:20260419T164415
CREATED:20240130T085333Z
LAST-MODIFIED:20240516T082434Z
UID:10000432-1718805600-1718814600@www.klinikum-lippe.de
SUMMARY:Fortbildung der Klinik für Kinder- und Jugendpsychiatrie: Therapeutische Essbegleitung
DESCRIPTION:Referenten \n\nFrau Dr. Voll\n\nWissenschaftliche Leitung \n\nDr. med. Dr. rer. nat. Ulrich Preuß\, Direktor
URL:https://www.klinikum-lippe.de/veranstaltung/fortbildung-der-klinik-fuer-kinder-und-jugendpsychiatrie-therapeutische-essbegleitung/
LOCATION:Klinik für Kinder- und Jugendpsychiatrie\, Heldmanstraße 45\, Bad Salzuflen\, 32108
CATEGORIES:Experten,Kinder- und Jugendpsychiatrie
ATTACH;FMTTYPE=image/png:https://www.klinikum-lippe.de/wp-content/uploads/2022/06/Fortbildung.png
ORGANIZER;CN="Klinik f%C3%BCr Kinder- und Jugendpsychiatrie":MAILTO:kjp@klinikum-lippe.de
END:VEVENT
BEGIN:VEVENT
DTSTART;TZID=Europe/Berlin:20240522T140000
DTEND;TZID=Europe/Berlin:20240522T163000
DTSTAMP:20260419T164415
CREATED:20240130T085236Z
LAST-MODIFIED:20240130T085236Z
UID:10000431-1716386400-1716395400@www.klinikum-lippe.de
SUMMARY:Fortbildung der Klinik für Kinder- und Jugendpsychiatrie: ADHS-Behandlung
DESCRIPTION:Referenten \n\nDr. med. Dr. rer. nat. Ulrich Preuß\, Direktor\n\nWissenschaftliche Leitung \n\nDr. med. Dr. rer. nat. Ulrich Preuß\, Direktor
URL:https://www.klinikum-lippe.de/veranstaltung/fortbildung-der-klinik-fuer-kinder-und-jugendpsychiatrie-adhs-behandlung/
LOCATION:Klinik für Kinder- und Jugendpsychiatrie\, Heldmanstraße 45\, Bad Salzuflen\, 32108
CATEGORIES:Experten,Kinder- und Jugendpsychiatrie
ATTACH;FMTTYPE=image/png:https://www.klinikum-lippe.de/wp-content/uploads/2022/06/Fortbildung.png
ORGANIZER;CN="Klinik f%C3%BCr Kinder- und Jugendpsychiatrie":MAILTO:kjp@klinikum-lippe.de
END:VEVENT
BEGIN:VEVENT
DTSTART;TZID=Europe/Berlin:20240424T140000
DTEND;TZID=Europe/Berlin:20240424T163000
DTSTAMP:20260419T164415
CREATED:20240130T085125Z
LAST-MODIFIED:20240130T085125Z
UID:10000430-1713967200-1713976200@www.klinikum-lippe.de
SUMMARY:Fortbildung der Klinik für Kinder- und Jugendpsychiatrie: Schulabsentismus
DESCRIPTION:Referenten \n\nDr. med. Dr. rer. nat. Ulrich Preuß\, Direktor\nHerr Schreckenberg-Lux\n\nWissenschaftliche Leitung \n\nDr. med. Dr. rer. nat. Ulrich Preuß\, Direktor
URL:https://www.klinikum-lippe.de/veranstaltung/fortbildung-der-klinik-fuer-kinder-und-jugendpsychiatrie-schulabsentismus/
LOCATION:Klinik für Kinder- und Jugendpsychiatrie\, Heldmanstraße 45\, Bad Salzuflen\, 32108
CATEGORIES:Experten,Kinder- und Jugendpsychiatrie
ATTACH;FMTTYPE=image/png:https://www.klinikum-lippe.de/wp-content/uploads/2022/06/Fortbildung.png
ORGANIZER;CN="Klinik f%C3%BCr Kinder- und Jugendpsychiatrie":MAILTO:kjp@klinikum-lippe.de
END:VEVENT
BEGIN:VEVENT
DTSTART;TZID=Europe/Berlin:20240221T140000
DTEND;TZID=Europe/Berlin:20240221T163000
DTSTAMP:20260419T164415
CREATED:20240130T084906Z
LAST-MODIFIED:20240130T084906Z
UID:10000429-1708524000-1708533000@www.klinikum-lippe.de
SUMMARY:Fortbildung der Klinik für Kinder- und Jugendpsychiatrie: EMDR
DESCRIPTION:Referenten \n\nFrau Dr. Roth\nHerr Jans\n\nWissenschaftliche Leitung \n\nDr. med. Dr. rer. nat. Ulrich Preuß\, Direktor
URL:https://www.klinikum-lippe.de/veranstaltung/fortbildung-der-klinik-fuer-kinder-und-jugendpsychiatrie-emdr/
LOCATION:Klinik für Kinder- und Jugendpsychiatrie\, Heldmanstraße 45\, Bad Salzuflen\, 32108
CATEGORIES:Experten,Kinder- und Jugendpsychiatrie
ATTACH;FMTTYPE=image/png:https://www.klinikum-lippe.de/wp-content/uploads/2022/06/Fortbildung.png
ORGANIZER;CN="Klinik f%C3%BCr Kinder- und Jugendpsychiatrie":MAILTO:kjp@klinikum-lippe.de
END:VEVENT
END:VCALENDAR