BEGIN:VCALENDAR
VERSION:2.0
PRODID:-//Klinikum Lippe - ECPv6.15.17.1//NONSGML v1.0//EN
CALSCALE:GREGORIAN
METHOD:PUBLISH
X-WR-CALNAME:Klinikum Lippe
X-ORIGINAL-URL:https://www.klinikum-lippe.de
X-WR-CALDESC:Veranstaltungen für Klinikum Lippe
REFRESH-INTERVAL;VALUE=DURATION:PT1H
X-Robots-Tag:noindex
X-PUBLISHED-TTL:PT1H
BEGIN:VTIMEZONE
TZID:Europe/Berlin
BEGIN:DAYLIGHT
TZOFFSETFROM:+0100
TZOFFSETTO:+0200
TZNAME:CEST
DTSTART:20230326T010000
END:DAYLIGHT
BEGIN:STANDARD
TZOFFSETFROM:+0200
TZOFFSETTO:+0100
TZNAME:CET
DTSTART:20231029T010000
END:STANDARD
BEGIN:DAYLIGHT
TZOFFSETFROM:+0100
TZOFFSETTO:+0200
TZNAME:CEST
DTSTART:20240331T010000
END:DAYLIGHT
BEGIN:STANDARD
TZOFFSETFROM:+0200
TZOFFSETTO:+0100
TZNAME:CET
DTSTART:20241027T010000
END:STANDARD
BEGIN:DAYLIGHT
TZOFFSETFROM:+0100
TZOFFSETTO:+0200
TZNAME:CEST
DTSTART:20250330T010000
END:DAYLIGHT
BEGIN:STANDARD
TZOFFSETFROM:+0200
TZOFFSETTO:+0100
TZNAME:CET
DTSTART:20251026T010000
END:STANDARD
END:VTIMEZONE
BEGIN:VEVENT
DTSTART;TZID=Europe/Berlin:20241112T180000
DTEND;TZID=Europe/Berlin:20241112T193000
DTSTAMP:20260420T221417
CREATED:20240827T084648Z
LAST-MODIFIED:20240829T064620Z
UID:10000483-1731434400-1731439800@www.klinikum-lippe.de
SUMMARY:Frauengesundheit - Besser informiert durch die Wechseljahre
DESCRIPTION:Die Wechseljahre – ein echtes Alltagsthema. Doch welcher „Wechsel“ geschieht gerade in dieser Lebensphase in meinem Körper und warum komme ich als Frau überhaupt in die Wechseljahre? Welche Symptome und Probleme können auftreten und wie können diese behandelt werden? Welche Vor- und Nachteile birgt eine Hormontherapie und welche Alternativen gibt es hierzu? \nZu diesen und weiteren „mitgebrachten“ Fragen informiert Univ.Prof. Dr. med. Beyhan Ataseven in einem praxisnahen Vortrag mit anschließender Diskussion. \nIn Zusammenarbeit mit der Volkshochschule Detmold-Lemgo \nZur Anmeldung
URL:https://www.klinikum-lippe.de/veranstaltung/frauengesundheit-besser-informiert-durch-die-wechseljahre/
LOCATION:Gesundheitskiosk Hörstmar\, Am Sportplatz 7\, Lemgo\, NRW\, 32657\, Deutschland
CATEGORIES:Brustzentrum Lippe,Gynäkologisches Krebszentrum Lippe,Patienten,Universitätsklinik für Frauenheilkunde und Geburtshilfe,VHS Detmold-Lemgo
ATTACH;FMTTYPE=image/png:https://www.klinikum-lippe.de/wp-content/uploads/2024/08/2.png
ORGANIZER;CN="Klinikum Lippe GmbH":MAILTO:info@klinikum-lippe.de
END:VEVENT
END:VCALENDAR