BEGIN:VCALENDAR
VERSION:2.0
PRODID:-//Klinikum Lippe - ECPv6.15.20//NONSGML v1.0//EN
CALSCALE:GREGORIAN
METHOD:PUBLISH
X-WR-CALNAME:Klinikum Lippe
X-ORIGINAL-URL:https://www.klinikum-lippe.de
X-WR-CALDESC:Veranstaltungen für Klinikum Lippe
REFRESH-INTERVAL;VALUE=DURATION:PT1H
X-Robots-Tag:noindex
X-PUBLISHED-TTL:PT1H
BEGIN:VTIMEZONE
TZID:Europe/Berlin
BEGIN:DAYLIGHT
TZOFFSETFROM:+0100
TZOFFSETTO:+0200
TZNAME:CEST
DTSTART:20220327T010000
END:DAYLIGHT
BEGIN:STANDARD
TZOFFSETFROM:+0200
TZOFFSETTO:+0100
TZNAME:CET
DTSTART:20221030T010000
END:STANDARD
BEGIN:DAYLIGHT
TZOFFSETFROM:+0100
TZOFFSETTO:+0200
TZNAME:CEST
DTSTART:20230326T010000
END:DAYLIGHT
BEGIN:STANDARD
TZOFFSETFROM:+0200
TZOFFSETTO:+0100
TZNAME:CET
DTSTART:20231029T010000
END:STANDARD
BEGIN:DAYLIGHT
TZOFFSETFROM:+0100
TZOFFSETTO:+0200
TZNAME:CEST
DTSTART:20240331T010000
END:DAYLIGHT
BEGIN:STANDARD
TZOFFSETFROM:+0200
TZOFFSETTO:+0100
TZNAME:CET
DTSTART:20241027T010000
END:STANDARD
END:VTIMEZONE
BEGIN:VEVENT
DTSTART;TZID=Europe/Berlin:20230511T180000
DTEND;TZID=Europe/Berlin:20230511T193000
DTSTAMP:20260423T212404
CREATED:20230504T120432Z
LAST-MODIFIED:20230504T120432Z
UID:10000204-1683828000-1683833400@www.klinikum-lippe.de
SUMMARY:Gesundheitskiosk Hörstmar: Vorsorgevollmacht und Patientenverfügung
DESCRIPTION:Gesundheitskiosk Hörstmar: Vorsorgevollmacht und Patientenverfügung I 11.05.2023 ab 18 Uhr \nAnmeldung: \nper E-Mail oder Telefon 05261 700 93 69
URL:https://www.klinikum-lippe.de/veranstaltung/gesundheitskiosk-hoerstmar-vorsorgevollmacht-und-patientenverfuegung/
LOCATION:Gesundheitskiosk Hörstmar\, Am Sportplatz 7\, Lemgo\, NRW\, 32657\, Deutschland
CATEGORIES:Gesundheitskiosk Hörstmar
ATTACH;FMTTYPE=image/png:https://www.klinikum-lippe.de/wp-content/uploads/2022/07/2022_GK_Website-710-×-375-px.png
ORGANIZER;CN="Gesundheitskiosk H%C3%B6rstmar":MAILTO:hallo@gesundheitskiosk-hoerstmar.de
END:VEVENT
END:VCALENDAR