BEGIN:VCALENDAR
VERSION:2.0
PRODID:-//Klinikum Lippe - ECPv6.15.17.1//NONSGML v1.0//EN
CALSCALE:GREGORIAN
METHOD:PUBLISH
X-ORIGINAL-URL:https://www.klinikum-lippe.de
X-WR-CALDESC:Veranstaltungen für Klinikum Lippe
REFRESH-INTERVAL;VALUE=DURATION:PT1H
X-Robots-Tag:noindex
X-PUBLISHED-TTL:PT1H
BEGIN:VTIMEZONE
TZID:Europe/Berlin
BEGIN:DAYLIGHT
TZOFFSETFROM:+0100
TZOFFSETTO:+0200
TZNAME:CEST
DTSTART:20230326T010000
END:DAYLIGHT
BEGIN:STANDARD
TZOFFSETFROM:+0200
TZOFFSETTO:+0100
TZNAME:CET
DTSTART:20231029T010000
END:STANDARD
BEGIN:DAYLIGHT
TZOFFSETFROM:+0100
TZOFFSETTO:+0200
TZNAME:CEST
DTSTART:20240331T010000
END:DAYLIGHT
BEGIN:STANDARD
TZOFFSETFROM:+0200
TZOFFSETTO:+0100
TZNAME:CET
DTSTART:20241027T010000
END:STANDARD
BEGIN:DAYLIGHT
TZOFFSETFROM:+0100
TZOFFSETTO:+0200
TZNAME:CEST
DTSTART:20250330T010000
END:DAYLIGHT
BEGIN:STANDARD
TZOFFSETFROM:+0200
TZOFFSETTO:+0100
TZNAME:CET
DTSTART:20251026T010000
END:STANDARD
END:VTIMEZONE
BEGIN:VEVENT
DTSTART;TZID=Europe/Berlin:20241029T180000
DTEND;TZID=Europe/Berlin:20241029T193000
DTSTAMP:20260420T234544
CREATED:20240827T083850Z
LAST-MODIFIED:20240827T084353Z
UID:10000481-1730224800-1730230200@www.klinikum-lippe.de
SUMMARY:Digitale Gesundheitsinformationen im Fokus - Wie seriös sind sie wirklich?
DESCRIPTION:Noch nie war es so einfach\, an Gesundheitsinformationen zu kommen: Über 13 Millionen deutschsprachige Webseiten informieren zum Thema Gesundheit\, längst nicht alle tun dies qualitativ hochwertig und verlässlich. \nAnja Rethmeier-Hanke\, Stabsstelle Medizinische Steuerung und Entwicklung im Klinikum Lippe stellt im Rahmen einer gemeinsamen Reise durch „das Netz“ seriöse Gesundheitsportale und deren Nutzung vor. Die Teilnehmenden lernen wesentliche Kriterien zum Erkennen seriöser Gesundheitsinformationen kennen. \nIn Zusammenarbeit mit der Volkshochschule Detmold-Lemgo \nZur Anmeldung
URL:https://www.klinikum-lippe.de/veranstaltung/digitale-gesundheitsinformationen-im-fokus-wie-serioes-sind-sie-wirklich/
LOCATION:Detmold\, VHS\, Vortragsraum\, Krumme Straße 20\, Detmold\, 32756\, Deutschland
CATEGORIES:Patienten,VHS Detmold-Lemgo
ATTACH;FMTTYPE=image/png:https://www.klinikum-lippe.de/wp-content/uploads/2024/08/3.png
ORGANIZER;CN="Klinikum Lippe GmbH":MAILTO:info@klinikum-lippe.de
END:VEVENT
END:VCALENDAR