BEGIN:VCALENDAR
VERSION:2.0
PRODID:-//Klinikum Lippe - ECPv6.15.17.1//NONSGML v1.0//EN
CALSCALE:GREGORIAN
METHOD:PUBLISH
X-WR-CALNAME:Klinikum Lippe
X-ORIGINAL-URL:https://www.klinikum-lippe.de
X-WR-CALDESC:Veranstaltungen für Klinikum Lippe
REFRESH-INTERVAL;VALUE=DURATION:PT1H
X-Robots-Tag:noindex
X-PUBLISHED-TTL:PT1H
BEGIN:VTIMEZONE
TZID:Europe/Berlin
BEGIN:DAYLIGHT
TZOFFSETFROM:+0100
TZOFFSETTO:+0200
TZNAME:CEST
DTSTART:20230326T010000
END:DAYLIGHT
BEGIN:STANDARD
TZOFFSETFROM:+0200
TZOFFSETTO:+0100
TZNAME:CET
DTSTART:20231029T010000
END:STANDARD
BEGIN:DAYLIGHT
TZOFFSETFROM:+0100
TZOFFSETTO:+0200
TZNAME:CEST
DTSTART:20240331T010000
END:DAYLIGHT
BEGIN:STANDARD
TZOFFSETFROM:+0200
TZOFFSETTO:+0100
TZNAME:CET
DTSTART:20241027T010000
END:STANDARD
BEGIN:DAYLIGHT
TZOFFSETFROM:+0100
TZOFFSETTO:+0200
TZNAME:CEST
DTSTART:20250330T010000
END:DAYLIGHT
BEGIN:STANDARD
TZOFFSETFROM:+0200
TZOFFSETTO:+0100
TZNAME:CET
DTSTART:20251026T010000
END:STANDARD
END:VTIMEZONE
BEGIN:VEVENT
DTSTART;TZID=Europe/Berlin:20240919T180000
DTEND;TZID=Europe/Berlin:20240919T193000
DTSTAMP:20260421T011942
CREATED:20240827T084247Z
LAST-MODIFIED:20240827T084247Z
UID:10000482-1726768800-1726774200@www.klinikum-lippe.de
SUMMARY:Erblicher bedingter Brust- und Eierstockkrebs – Worauf Frauen achten sollten
DESCRIPTION:In Zusammenarbeit mit der Volkshochschule Detmold-Lemgo \nZur Anmeldung
URL:https://www.klinikum-lippe.de/veranstaltung/erblicher-bedingter-brust-und-eierstockkrebs-worauf-frauen-achten-sollten/
LOCATION:Detmold\, VHS\, Vortragsraum\, Krumme Straße 20\, Detmold\, 32756\, Deutschland
CATEGORIES:Brustzentrum Lippe,Gynäkologisches Krebszentrum Lippe,Onkologisches Zentrum Lippe,Patienten,Universitätsklinik für Frauenheilkunde und Geburtshilfe,VHS Detmold-Lemgo
ATTACH;FMTTYPE=image/png:https://www.klinikum-lippe.de/wp-content/uploads/2024/08/1.png
ORGANIZER;CN="Klinikum Lippe GmbH":MAILTO:info@klinikum-lippe.de
END:VEVENT
END:VCALENDAR