BEGIN:VCALENDAR
VERSION:2.0
PRODID:-//Klinikum Lippe - ECPv6.15.17.1//NONSGML v1.0//EN
CALSCALE:GREGORIAN
METHOD:PUBLISH
X-WR-CALNAME:Klinikum Lippe
X-ORIGINAL-URL:https://www.klinikum-lippe.de
X-WR-CALDESC:Veranstaltungen für Klinikum Lippe
REFRESH-INTERVAL;VALUE=DURATION:PT1H
X-Robots-Tag:noindex
X-PUBLISHED-TTL:PT1H
BEGIN:VTIMEZONE
TZID:Europe/Berlin
BEGIN:DAYLIGHT
TZOFFSETFROM:+0100
TZOFFSETTO:+0200
TZNAME:CEST
DTSTART:20240331T010000
END:DAYLIGHT
BEGIN:STANDARD
TZOFFSETFROM:+0200
TZOFFSETTO:+0100
TZNAME:CET
DTSTART:20241027T010000
END:STANDARD
BEGIN:DAYLIGHT
TZOFFSETFROM:+0100
TZOFFSETTO:+0200
TZNAME:CEST
DTSTART:20250330T010000
END:DAYLIGHT
BEGIN:STANDARD
TZOFFSETFROM:+0200
TZOFFSETTO:+0100
TZNAME:CET
DTSTART:20251026T010000
END:STANDARD
BEGIN:DAYLIGHT
TZOFFSETFROM:+0100
TZOFFSETTO:+0200
TZNAME:CEST
DTSTART:20260329T010000
END:DAYLIGHT
BEGIN:STANDARD
TZOFFSETFROM:+0200
TZOFFSETTO:+0100
TZNAME:CET
DTSTART:20261025T010000
END:STANDARD
END:VTIMEZONE
BEGIN:VEVENT
DTSTART;TZID=Europe/Berlin:20250705T080000
DTEND;TZID=Europe/Berlin:20250705T150000
DTSTAMP:20260422T132353
CREATED:20250627T061815Z
LAST-MODIFIED:20250627T061935Z
UID:10001022-1751702400-1751727600@www.klinikum-lippe.de
SUMMARY:Sommersymposium der Universitätsklinik für Frauenheilkunde und Geburtshilfe
DESCRIPTION:Sommersymposium der Universitätsklinik für Frauenheilkunde und Geburtshilfe\nFortbildung – Austausch – Innovation \nDie Universitätsklinik für Frauenheilkunde und Geburtshilfe lädt am Samstag\, 5. Juli 2025 zum zweiten Sommersymposium nach Detmold ein. Unter der wissenschaftlichen Leitung von Prof. Dr. Beyhan Ataseven erwarten Sie spannende Fachvorträge renommierter nationaler und internationaler Expertinnen und Experten zu aktuellen Entwicklungen in der Gynäkologie\, Senologie und Geburtshilfe. \nDie Veranstaltung fördert den interdisziplinären Wissenstransfer zwischen Klinik und Praxis und bietet Raum für persönlichen Austausch. \nProgramm
URL:https://www.klinikum-lippe.de/veranstaltung/sommersymposium-der-universitaetsklinik-fuer-frauenheilkunde-und-geburtshilfe/
LOCATION:Campus 9\, Robert-Koch-Straße 2a\, Detmold\, 32756\, Germany
CATEGORIES:Brustzentrum,Experten,Frauenheilkunde und Geburtshilfe,Gynäkologisches Krebszentrum,Onkologisches Zentrum
ATTACH;FMTTYPE=image/png:https://www.klinikum-lippe.de/wp-content/uploads/2024/06/20240629_Sommersymposium_UFK.png
ORGANIZER;CN="Universit%C3%A4tsklinik fu%CC%88r Frauenheilkunde und Geburtshilfe":MAILTO:frauenklinik@klinikum-lippe.de
END:VEVENT
END:VCALENDAR