BEGIN:VCALENDAR
VERSION:2.0
PRODID:-//Klinikum Lippe - ECPv6.15.20//NONSGML v1.0//EN
CALSCALE:GREGORIAN
METHOD:PUBLISH
X-ORIGINAL-URL:https://www.klinikum-lippe.de
X-WR-CALDESC:Veranstaltungen für Klinikum Lippe
REFRESH-INTERVAL;VALUE=DURATION:PT1H
X-Robots-Tag:noindex
X-PUBLISHED-TTL:PT1H
BEGIN:VTIMEZONE
TZID:Europe/Berlin
BEGIN:DAYLIGHT
TZOFFSETFROM:+0100
TZOFFSETTO:+0200
TZNAME:CEST
DTSTART:20210328T010000
END:DAYLIGHT
BEGIN:STANDARD
TZOFFSETFROM:+0200
TZOFFSETTO:+0100
TZNAME:CET
DTSTART:20211031T010000
END:STANDARD
BEGIN:DAYLIGHT
TZOFFSETFROM:+0100
TZOFFSETTO:+0200
TZNAME:CEST
DTSTART:20220327T010000
END:DAYLIGHT
BEGIN:STANDARD
TZOFFSETFROM:+0200
TZOFFSETTO:+0100
TZNAME:CET
DTSTART:20221030T010000
END:STANDARD
BEGIN:DAYLIGHT
TZOFFSETFROM:+0100
TZOFFSETTO:+0200
TZNAME:CEST
DTSTART:20230326T010000
END:DAYLIGHT
BEGIN:STANDARD
TZOFFSETFROM:+0200
TZOFFSETTO:+0100
TZNAME:CET
DTSTART:20231029T010000
END:STANDARD
END:VTIMEZONE
BEGIN:VEVENT
DTSTART;TZID=Europe/Berlin:20221110T190000
DTEND;TZID=Europe/Berlin:20221110T210000
DTSTAMP:20260424T004522
CREATED:20221010T092607Z
LAST-MODIFIED:20221010T092831Z
UID:10000159-1668106800-1668114000@www.klinikum-lippe.de
SUMMARY:Hautkrebszentrum Lippe: Gemeinsam für die Patienten
DESCRIPTION:Eine Krebserkrankung kann das ganze Leben verändern – für Betroffene\, Angehörige und Freunde. Gut\, wenn man dann mit seinen Fragen und Sorgen nicht allein ist. \nDas Klinikum Lippe ist anerkannt als „Selbsthilfefreundliches Krankenhaus“. Im Kreis Lippe gibt es noch keine Selbsthilfegruppe für an Hautkrebs erkrankte Menschen. Wir möchten Betroffene ermutigen\, den Kontakt zu anderen Patientinnen und Patienten zu suchen\, um gemeinsam von den Erfahrungen zu profitieren\, sich gegenseitig zu unterstützen oder einfach miteinander die Freizeit zu verbringen.  \nGemeinsam mit der Selbsthilfegruppe „Hautkrebs“ aus Minden und der Selbsthilfe-Kontaktstelle im Kreis Lippe hat das Hautkrebszentrum Lippe einen Informationsabend organisiert.  \nProgramm \n19.00 Uhr\nBegrüßung\nChefarzt PD Dr. Helger Stege  \n19.05 bis 19.20 Uhr\nWas ist das besondere an einem Kompetenzzentrum? Gemeinsam für die Patienten!\nVorstellung des Hautkrebszentrum Lippe\nLeitender Oberarzt und Zentrumsleiter Dr. Stefan Nestoris\nSozialdienstleistungen bei Krebserkrankungen\nTeam des Sozialdienstes des Klinikum Lippe\nWas kann Seelsorge leisten?\nPfarrerin Gerlinde Kriete-Samklu\nMöglichkeiten der Psychoonkologie\nDipl.-Psych. Andrea Oderinlo / Dipl.-Psych. Christian Heinrich  \n19.20 bis 20.00 Uhr\nErfahrungen aus der Arbeit in der Selbsthilfe\nVorstellung der Selbsthilfegruppe „Hautkrebs“ Minden\nSilke Höinghaus\nDie Selbsthilfe-Kontaktstelle des Kreis Lippe\nFrau Stegelmann  \nVeranstaltungsort\nMedicum Detmold\nKonferenzbereich im 4. Obergeschoss\nRaum 3 \nAnmeldung\nZur besseren Planung bitten wir um kurze Anmeldung.\nTelefon 05231 72-5148 oder per E-Mail \nAlle Teilnehmerinnen und Teilnehmer müssen 2 G+ erfüllen. Das bedeutet: Vollständig geimpft oder genesen sein und Nachweis eines aktuellen (max. 24 Stunden alt) Antigentests einer offiziellen Teststelle.
URL:https://www.klinikum-lippe.de/veranstaltung/hautkrebszentrum-20221110/
LOCATION:Medicum Detmold\, Konferenzräume im 4. Obergeschoss\, Röntgenstraße 16\, Detmold\, 32756
ATTACH;FMTTYPE=image/jpeg:https://www.klinikum-lippe.de/wp-content/uploads/2021/05/klinikum_lippe_hautkrebszentrum.jpg
ORGANIZER;CN="Klinikum Lippe GmbH":MAILTO:info@klinikum-lippe.de
END:VEVENT
END:VCALENDAR