BEGIN:VCALENDAR
VERSION:2.0
PRODID:-//Klinikum Lippe - ECPv6.15.20//NONSGML v1.0//EN
CALSCALE:GREGORIAN
METHOD:PUBLISH
X-WR-CALNAME:Klinikum Lippe
X-ORIGINAL-URL:https://www.klinikum-lippe.de
X-WR-CALDESC:Veranstaltungen für Klinikum Lippe
REFRESH-INTERVAL;VALUE=DURATION:PT1H
X-Robots-Tag:noindex
X-PUBLISHED-TTL:PT1H
BEGIN:VTIMEZONE
TZID:Europe/Berlin
BEGIN:DAYLIGHT
TZOFFSETFROM:+0100
TZOFFSETTO:+0200
TZNAME:CEST
DTSTART:20210328T010000
END:DAYLIGHT
BEGIN:STANDARD
TZOFFSETFROM:+0200
TZOFFSETTO:+0100
TZNAME:CET
DTSTART:20211031T010000
END:STANDARD
BEGIN:DAYLIGHT
TZOFFSETFROM:+0100
TZOFFSETTO:+0200
TZNAME:CEST
DTSTART:20220327T010000
END:DAYLIGHT
BEGIN:STANDARD
TZOFFSETFROM:+0200
TZOFFSETTO:+0100
TZNAME:CET
DTSTART:20221030T010000
END:STANDARD
BEGIN:DAYLIGHT
TZOFFSETFROM:+0100
TZOFFSETTO:+0200
TZNAME:CEST
DTSTART:20230326T010000
END:DAYLIGHT
BEGIN:STANDARD
TZOFFSETFROM:+0200
TZOFFSETTO:+0100
TZNAME:CET
DTSTART:20231029T010000
END:STANDARD
END:VTIMEZONE
BEGIN:VEVENT
DTSTART;TZID=Europe/Berlin:20221020T183000
DTEND;TZID=Europe/Berlin:20221102T180000
DTSTAMP:20260425T204252
CREATED:20221012T094207Z
LAST-MODIFIED:20221023T131515Z
UID:10000160-1666290600-1667412000@www.klinikum-lippe.de
SUMMARY:Fotoausstellung ANSICHTSSACHE
DESCRIPTION:„Ansichtssache“ ist der Titel einer Ausstellung\, bei der es um Wissen und Entscheidungen bei familiärem Brust- und Eierstockkrebs geht. Es werden Fotografien von 17 Frauen und kurze Texte zu ihrem Umgang mit dem Wissen um das Risiko der Erkrankung\, aber auch ihre Entscheidungen zu vorbeugenden Maßnahmen oder zur intensivierten Früherkennung gezeigt. Die Wanderausstellung will Ängste nehmen und zeigt auf\, dass es für die betroffenen Frauen individuell unterschiedliche Wege gibt. \nDie ausgestellten Fotografien wurden von Tamara Pribaten erstellt. \nDie offizielle Ausstellungseröffnung findet online am 20.10.2022 um 18.30 Uhr statt.\nLink zur Zoom-Vernissage: Virtuelle Eröffnung der Fotoausstellung „Ansichtssache“ \nAusstellungsort:\nKlinikum Lippe\nKlinikstandort Detmold\nVorraum der Frauenklinik\nRöntgenstraße 18\n32756 Detmold \nDie Aktionen im Brustkrebsmonat Oktober wurden organisiert durch den BRCA-Netzwerk e.V.\, die Stadt Detmold\, die VHS Detmold-Lemgo und das Brustzentrum Lippe. \nBitte beachten Sie\, dass weiterhin Corona-bedingte Zugangsbeschränkungen für Krankenhäuser gelten. Alle Informationen dazu gibt es hier.
URL:https://www.klinikum-lippe.de/veranstaltung/ansichtssache/
LOCATION:Klinikum Lippe – Detmold\, Röntgenstraße 18\, Detmold\, NRW\, 32756\, Deutschland
CATEGORIES:Ausstellung
ATTACH;FMTTYPE=image/png:https://www.klinikum-lippe.de/wp-content/uploads/2022/10/20221017_Pinker-Oktober_Ausstellungseröffnung-710-×-375-px.png
END:VEVENT
BEGIN:VEVENT
DTSTART;TZID=Europe/Berlin:20221024T193000
DTEND;TZID=Europe/Berlin:20221024T210000
DTSTAMP:20260425T204252
CREATED:20221012T095706Z
LAST-MODIFIED:20221012T095835Z
UID:10000161-1666639800-1666645200@www.klinikum-lippe.de
SUMMARY:Infoabend Brustkrebs: Vorsorge statt Nachsorge!
DESCRIPTION:„Vorsorge statt Nachsorge!“ lautet das Motto des Infoabends rund um das Thema Brustkrebs am Montag\, 24. Oktober 2022 im Rathaus Detmold. Von 19.30 bis 21.00 Uhr steht Dorothé Düpont im großen Sitzungssaal am Marktplatz 5 nach einem kurzen Vortrag für Fragen und Austausch zur Verfügung. \nNoch immer wissen viel zu wenige Menschen ausreichend über Risiken\, Vorsorge und Behandlung von Brustkrebs Bescheid. Hauptsächlich sind Frauen von Brustkrebs betroffen\, aber auch Männer können daran erkranken. Vorsorgemaßnahmen werden aufgrund der Corona-Pandemie weniger genutzt. Das Bewusstsein für diese Krankheit nimmt leider erst zu\, wenn jemand im persönlichen Umfeld erkrankt ist. \nDorothé Düpont\, Leiterin des Brustzentrum Lippe\, wird am Infoabend die wichtigsten Grundlagen zum Thema Brustgesundheit vermitteln und darüber hinaus die bewährte MammaCare-Methode vorstellen. \nAnmeldung \nEine Anmeldung für die Veranstaltung ist notwendig und möglich per E-Mail an gleichstellungsstelle@detmold.de. \nDie Aktionen im Brustkrebsmonat Oktober wurden organisiert durch den BRCA-Netzwerk e.V.\, die Stadt Detmold\, die VHS Detmold-Lemgo und das Brustzentrum Lippe.
URL:https://www.klinikum-lippe.de/veranstaltung/infoabend-brustkrebs/
LOCATION:Großer Sitzungssaal\, Rathaus Detmold\, Marktplatz 5\, Detmold\, 32756
ATTACH;FMTTYPE=image/png:https://www.klinikum-lippe.de/wp-content/uploads/2022/10/20221019_Pinker-Oktober_Infoabend-710-×-375-px.png
END:VEVENT
END:VCALENDAR