BEGIN:VCALENDAR
VERSION:2.0
PRODID:-//Klinikum Lippe - ECPv6.15.17.1//NONSGML v1.0//EN
CALSCALE:GREGORIAN
METHOD:PUBLISH
X-ORIGINAL-URL:https://www.klinikum-lippe.de
X-WR-CALDESC:Veranstaltungen für Klinikum Lippe
REFRESH-INTERVAL;VALUE=DURATION:PT1H
X-Robots-Tag:noindex
X-PUBLISHED-TTL:PT1H
BEGIN:VTIMEZONE
TZID:Europe/Berlin
BEGIN:DAYLIGHT
TZOFFSETFROM:+0100
TZOFFSETTO:+0200
TZNAME:CEST
DTSTART:20240331T010000
END:DAYLIGHT
BEGIN:STANDARD
TZOFFSETFROM:+0200
TZOFFSETTO:+0100
TZNAME:CET
DTSTART:20241027T010000
END:STANDARD
BEGIN:DAYLIGHT
TZOFFSETFROM:+0100
TZOFFSETTO:+0200
TZNAME:CEST
DTSTART:20250330T010000
END:DAYLIGHT
BEGIN:STANDARD
TZOFFSETFROM:+0200
TZOFFSETTO:+0100
TZNAME:CET
DTSTART:20251026T010000
END:STANDARD
BEGIN:DAYLIGHT
TZOFFSETFROM:+0100
TZOFFSETTO:+0200
TZNAME:CEST
DTSTART:20260329T010000
END:DAYLIGHT
BEGIN:STANDARD
TZOFFSETFROM:+0200
TZOFFSETTO:+0100
TZNAME:CET
DTSTART:20261025T010000
END:STANDARD
END:VTIMEZONE
BEGIN:VEVENT
DTSTART;TZID=Europe/Berlin:20250211T150000
DTEND;TZID=Europe/Berlin:20250211T170000
DTSTAMP:20260421T145152
CREATED:20250206T182451Z
LAST-MODIFIED:20250206T182512Z
UID:10000862-1739286000-1739293200@www.klinikum-lippe.de
SUMMARY:Azubi-Speed-Dating
DESCRIPTION:Azubi-Speed-Dating:\nStarte deine Karriere in der Pflege beim Klinikum Lippe\nAm 11. Februar und 12. März 2025 hast du die Möglichkeit\, dich direkt vor Ort am Standort Detmold für eine Ausbildung in der Pflege zu bewerben – und bei Eignung sogar sofort eine Zusage zu erhalten! \nMitzubringen sind lediglich ein Lebenslauf\, die letzten Zeugnisse und Interesse am Pflegeberuf. \nVoraussetzungen: \n\nFür die Ausbildung zur Pflegefachkraft (Ausbildungsdauer 3 Jahre): mindestens ein mittlerer Schulabschluss oder ein gleichwertiger 10-jähriger Schulabschluss.\nFür die Ausbildung zur Pflegefachassistenz (Ausbildungsdauer 1 Jahr): ein Schulabschluss der Klasse 9. Auch Quereinsteiger*innen sind herzlich willkommen!
URL:https://www.klinikum-lippe.de/veranstaltung/azubi-speed-dating/
LOCATION:Klinikum Lippe – Detmold\, Röntgenstraße 18\, Detmold\, NRW\, 32756\, Deutschland
CATEGORIES:Ausbildung&Karriere
ATTACH;FMTTYPE=image/png:https://www.klinikum-lippe.de/wp-content/uploads/2025/01/Webseitenbild.png
ORGANIZER;CN="Klinikum Lippe GmbH":MAILTO:info@klinikum-lippe.de
END:VEVENT
END:VCALENDAR