BEGIN:VCALENDAR
VERSION:2.0
PRODID:-//Klinikum Lippe - ECPv6.15.17.1//NONSGML v1.0//EN
CALSCALE:GREGORIAN
METHOD:PUBLISH
X-ORIGINAL-URL:https://www.klinikum-lippe.de
X-WR-CALDESC:Veranstaltungen für Klinikum Lippe
REFRESH-INTERVAL;VALUE=DURATION:PT1H
X-Robots-Tag:noindex
X-PUBLISHED-TTL:PT1H
BEGIN:VTIMEZONE
TZID:Europe/Berlin
BEGIN:DAYLIGHT
TZOFFSETFROM:+0100
TZOFFSETTO:+0200
TZNAME:CEST
DTSTART:20230326T010000
END:DAYLIGHT
BEGIN:STANDARD
TZOFFSETFROM:+0200
TZOFFSETTO:+0100
TZNAME:CET
DTSTART:20231029T010000
END:STANDARD
BEGIN:DAYLIGHT
TZOFFSETFROM:+0100
TZOFFSETTO:+0200
TZNAME:CEST
DTSTART:20240331T010000
END:DAYLIGHT
BEGIN:STANDARD
TZOFFSETFROM:+0200
TZOFFSETTO:+0100
TZNAME:CET
DTSTART:20241027T010000
END:STANDARD
BEGIN:DAYLIGHT
TZOFFSETFROM:+0100
TZOFFSETTO:+0200
TZNAME:CEST
DTSTART:20250330T010000
END:DAYLIGHT
BEGIN:STANDARD
TZOFFSETFROM:+0200
TZOFFSETTO:+0100
TZNAME:CET
DTSTART:20251026T010000
END:STANDARD
END:VTIMEZONE
BEGIN:VEVENT
DTSTART;TZID=Europe/Berlin:20240305T150000
DTEND;TZID=Europe/Berlin:20240305T170000
DTSTAMP:20260422T093539
CREATED:20240219T090323Z
LAST-MODIFIED:20240219T090831Z
UID:10000444-1709650800-1709658000@www.klinikum-lippe.de
SUMMARY:Speed-Dating Pflegeausbildung mit Sofortzusage
DESCRIPTION:Du interessierst dich für eine Ausbildung in einem Pflegeberuf?\nKomm zum Azubi-Speed-Dating für Pflegeberufe mit Sofortzusage!\nWir treffen uns im Eingangsbereich des Klinikstandortes Detmold\, Röntgenstraße 18. Eine Anmeldung ist nicht erforderlich. \nBitte bring mit: \n\ndeinen schriftlichen Lebenslauf\ndein letztes Schulzeugnis\n\nFreu dich auf: \n\nPersönliche Ansprechpartnerinnen und -partner aus dem Klinikum Lippe sowie den Schulen für Pflegeberufe Herford-Lippe\nFührungen durch den OP\, die Endoskopie\, die Wundambulanz und über verschiedene Stationen\n\nWie läuft das Speed-Dating ab? \n\nAbgabe der Bewerbungsunterlagen (10 Minuten)\nSchriftlicher Test mit allgemeinen Fragen zum Pflegeberuf (20 Minuten)\nEinzelgespräch (20 Minuten)\nEntscheidung und Rücksprache (10 Minuten)\n\nAllgemeine Infos: \nVoraussetzungen für die Ausbildung zum Pflegefachmann oder zur Pflegefachfrau ist mindestens ein mittlerer Schulabschluss oder ein anderer gleichwertiger 10-jähriger Schulabschluss – auch ein Quereinstieg ist möglich. Für die Ausbildung zur Pflegefachassistenz reicht auch ein Schulabschluss der Klasse 9. \nAuf Wunsch und bei entsprechender Eignung gibt es direkt vor Ort die Zusage zum 1. April 2024 mit der Ausbildung am Klinikum Lippe starten zu können. Weitere Starttermine für eine Pflegeausbildung sind der 1. August und der 1. Oktober 2024. Die Ausbildungen der Pflegefachassistenz in Vollzeit und auch in der neuen Kombination mit der Praxis-integrierten Ausbildung Sozialassistenz beginnen ebenfalls 1. August. \nDie neue generalistische Ausbildung deckt alle Pflegebereiche ab. Dadurch erhalten Auszubildende die Möglichkeit\, während der 3-jährigen Ausbildung alle Bereiche kennenzulernen\, in denen Pflege heutzutage benötigt wird – egal ob im Krankenhaus\, im Altenheim oder bei den Patienten zu Hause. Die Ausbildung ermöglicht viel Freiheit und Flexibilität in der Gestaltung der persönlichen beruflichen Laufbahn. Und dabei ist die Pflege ein echter Job mit Zukunft: Die Zahl der Pflegebedürftigen in Deutschland belief sich Ende 2021 auf rund 4\,96 Millionen Menschen und die Zahl steigt stetig. \nDer theoretische Teil der Ausbildungen findet an den Schulen für Pflegeberufe Herford/Lippe statt. Die Schulstandorte befinden sind direkt am Klinikgelände in Detmold und Lemgo und zeichnen sich durch moderne Lehre mit digitalen Hilfsmitteln\, einem hervorragenden Betreuungsschlüssel durch Lehrende und langjähriger guter Vernetzung zum Klinikum Lippe und weiteren Kooperationspartnern aus. Darüber hinaus haben Studieninteressierte die Möglichkeit nach der Vollendung des ersten Ausbildungsjahres ein ausbildunsgbegleitendes Studium an der Hochschule Bielefeld zu absolvieren. \nAlle Ausbildungsmöglichkeiten in Pflegeberufen findest du auch hier: www.klinikum-lippe.de/ausbildung-pflegeberufe.
URL:https://www.klinikum-lippe.de/veranstaltung/speed-dating-pflegeausbildung-mit-sofortzusage/2024-03-05/
LOCATION:Klinikum Lippe – Detmold\, Röntgenstraße 18\, Detmold\, NRW\, 32756\, Deutschland
CATEGORIES:Ausbildung&Karriere
ATTACH;FMTTYPE=image/png:https://www.klinikum-lippe.de/wp-content/uploads/2024/02/202402_KLG_SpeedDating-710-x-321-px.png
ORGANIZER;CN="Klinikum Lippe GmbH":MAILTO:info@klinikum-lippe.de
END:VEVENT
BEGIN:VEVENT
DTSTART;TZID=Europe/Berlin:20240314T150000
DTEND;TZID=Europe/Berlin:20240314T160000
DTSTAMP:20260422T093539
CREATED:20240307T094645Z
LAST-MODIFIED:20240307T094850Z
UID:10000450-1710428400-1710432000@www.klinikum-lippe.de
SUMMARY:Speed-Dating Pflegeausbildung mit Sofortzusage
DESCRIPTION:Du interessierst dich für eine Ausbildung in einem Pflegeberuf?\nKomm zum Azubi-Speed-Dating für Pflegeberufe mit Sofortzusage!\nWir treffen uns im Eingangsbereich des Klinikstandortes Detmold\, Röntgenstraße 18. Eine Anmeldung ist nicht erforderlich. \nBitte bring mit: \n\ndeinen schriftlichen Lebenslauf\ndein letztes Schulzeugnis\n\nFreu dich auf: \n\nPersönliche Ansprechpartnerinnen und -partner aus dem Klinikum Lippe sowie den Schulen für Pflegeberufe Herford-Lippe\nFührungen durch den OP\, die Endoskopie\, die Wundambulanz und über verschiedene Stationen\n\nWie läuft das Speed-Dating ab? \n\nAbgabe der Bewerbungsunterlagen (10 Minuten)\nSchriftlicher Test mit allgemeinen Fragen zum Pflegeberuf (20 Minuten)\nEinzelgespräch (20 Minuten)\nEntscheidung und Rücksprache (10 Minuten)\n\nAllgemeine Infos: \nVoraussetzungen für die Ausbildung zum Pflegefachmann oder zur Pflegefachfrau ist mindestens ein mittlerer Schulabschluss oder ein anderer gleichwertiger 10-jähriger Schulabschluss – auch ein Quereinstieg ist möglich. Für die Ausbildung zur Pflegefachassistenz reicht auch ein Schulabschluss der Klasse 9. \nAuf Wunsch und bei entsprechender Eignung gibt es direkt vor Ort die Zusage zum 1. April 2024 mit der Ausbildung am Klinikum Lippe starten zu können. Weitere Starttermine für eine Pflegeausbildung sind der 1. August und der 1. Oktober 2024. Die Ausbildungen der Pflegefachassistenz in Vollzeit und auch in der neuen Kombination mit der Praxis-integrierten Ausbildung Sozialassistenz beginnen ebenfalls 1. August. \nDie neue generalistische Ausbildung deckt alle Pflegebereiche ab. Dadurch erhalten Auszubildende die Möglichkeit\, während der 3-jährigen Ausbildung alle Bereiche kennenzulernen\, in denen Pflege heutzutage benötigt wird – egal ob im Krankenhaus\, im Altenheim oder bei den Patienten zu Hause. Die Ausbildung ermöglicht viel Freiheit und Flexibilität in der Gestaltung der persönlichen beruflichen Laufbahn. Und dabei ist die Pflege ein echter Job mit Zukunft: Die Zahl der Pflegebedürftigen in Deutschland belief sich Ende 2021 auf rund 4\,96 Millionen Menschen und die Zahl steigt stetig. \nDer theoretische Teil der Ausbildungen findet an den Schulen für Pflegeberufe Herford/Lippe statt. Die Schulstandorte befinden sind direkt am Klinikgelände in Detmold und Lemgo und zeichnen sich durch moderne Lehre mit digitalen Hilfsmitteln\, einem hervorragenden Betreuungsschlüssel durch Lehrende und langjähriger guter Vernetzung zum Klinikum Lippe und weiteren Kooperationspartnern aus. Darüber hinaus haben Studieninteressierte die Möglichkeit nach der Vollendung des ersten Ausbildungsjahres ein ausbildunsgbegleitendes Studium an der Hochschule Bielefeld zu absolvieren. \nAlle Ausbildungsmöglichkeiten in Pflegeberufen findest du auch hier: www.klinikum-lippe.de/ausbildung-pflegeberufe.
URL:https://www.klinikum-lippe.de/veranstaltung/speeddating-pflegeausbildung-20240314/
LOCATION:Klinikum Lippe – Detmold\, Röntgenstraße 18\, Detmold\, NRW\, 32756\, Deutschland
CATEGORIES:Ausbildung&Karriere
ATTACH;FMTTYPE=image/png:https://www.klinikum-lippe.de/wp-content/uploads/2024/02/202402_KLG_SpeedDating-710-x-321-px.png
ORGANIZER;CN="Klinikum Lippe GmbH":MAILTO:info@klinikum-lippe.de
END:VEVENT
END:VCALENDAR