BEGIN:VCALENDAR
VERSION:2.0
PRODID:-//Klinikum Lippe - ECPv6.15.17.1//NONSGML v1.0//EN
CALSCALE:GREGORIAN
METHOD:PUBLISH
X-ORIGINAL-URL:https://www.klinikum-lippe.de
X-WR-CALDESC:Veranstaltungen für Klinikum Lippe
REFRESH-INTERVAL;VALUE=DURATION:PT1H
X-Robots-Tag:noindex
X-PUBLISHED-TTL:PT1H
BEGIN:VTIMEZONE
TZID:Europe/Berlin
BEGIN:DAYLIGHT
TZOFFSETFROM:+0100
TZOFFSETTO:+0200
TZNAME:CEST
DTSTART:20240331T010000
END:DAYLIGHT
BEGIN:STANDARD
TZOFFSETFROM:+0200
TZOFFSETTO:+0100
TZNAME:CET
DTSTART:20241027T010000
END:STANDARD
BEGIN:DAYLIGHT
TZOFFSETFROM:+0100
TZOFFSETTO:+0200
TZNAME:CEST
DTSTART:20250330T010000
END:DAYLIGHT
BEGIN:STANDARD
TZOFFSETFROM:+0200
TZOFFSETTO:+0100
TZNAME:CET
DTSTART:20251026T010000
END:STANDARD
BEGIN:DAYLIGHT
TZOFFSETFROM:+0100
TZOFFSETTO:+0200
TZNAME:CEST
DTSTART:20260329T010000
END:DAYLIGHT
BEGIN:STANDARD
TZOFFSETFROM:+0200
TZOFFSETTO:+0100
TZNAME:CET
DTSTART:20261025T010000
END:STANDARD
END:VTIMEZONE
BEGIN:VEVENT
DTSTART;TZID=Europe/Berlin:20250312T153000
DTEND;TZID=Europe/Berlin:20250312T200000
DTSTAMP:20260422T132836
CREATED:20250116T103457Z
LAST-MODIFIED:20250116T103457Z
UID:10000857-1741793400-1741809600@www.klinikum-lippe.de
SUMMARY:Fortbildung: Pankreas-Symposium
DESCRIPTION:Das Universitätsklinikum für Allgemein- und Viszeralchirurgie lädt Kolleginnen und Kollegen herzlich zum ersten Pankreas-Symposium ein. \nImmer häufiger werden durch verbesserte Bildgebungen inzidentelle Pankreaszysten diagnostiziert. Es gilt hierbei einerseits unnötige Operationen oder Beobachtungen zu vermeiden\, andererseits gilt jedoch maligne Entartungen nicht zu spät zu diagnostizieren. Sollte die Operation indiziert sein\, ist unser Anspruch durch den Einsatz minimalinvasiver Techniken\, das Operationstrauma möglichst gering zu halten. Die Etablierung der roboter-assistierten Operationstechnik in der Pankreaschirurgie stellt hierbei einen entscheidenden Baustein dar. \nLassen Sie uns die Gelegenheit nutzen\, im Rahmen des Symposiums in den persönlichen\, kollegialen Austausch zu treten\, um das spannende Thema „Zystische Pankreasläsionen“ gemeinsam zu diskutieren. \nProgramm
URL:https://www.klinikum-lippe.de/veranstaltung/2025-pankreas-symposium/
LOCATION:Campus 9\, Robert-Koch-Straße 2a\, Detmold\, 32756\, Germany
CATEGORIES:Alllgemein- und Viszeralchirurgie,Experten,Onkologisches Zentrum
ATTACH;FMTTYPE=image/jpeg:https://www.klinikum-lippe.de/wp-content/uploads/2025/01/AdobeStock_306871845-scaled.jpeg
END:VEVENT
END:VCALENDAR