BEGIN:VCALENDAR
VERSION:2.0
PRODID:-//Klinikum Lippe - ECPv6.15.20//NONSGML v1.0//EN
CALSCALE:GREGORIAN
METHOD:PUBLISH
X-WR-CALNAME:Klinikum Lippe
X-ORIGINAL-URL:https://www.klinikum-lippe.de
X-WR-CALDESC:Veranstaltungen für Klinikum Lippe
REFRESH-INTERVAL;VALUE=DURATION:PT1H
X-Robots-Tag:noindex
X-PUBLISHED-TTL:PT1H
BEGIN:VTIMEZONE
TZID:Europe/Berlin
BEGIN:DAYLIGHT
TZOFFSETFROM:+0100
TZOFFSETTO:+0200
TZNAME:CEST
DTSTART:20210328T010000
END:DAYLIGHT
BEGIN:STANDARD
TZOFFSETFROM:+0200
TZOFFSETTO:+0100
TZNAME:CET
DTSTART:20211031T010000
END:STANDARD
BEGIN:DAYLIGHT
TZOFFSETFROM:+0100
TZOFFSETTO:+0200
TZNAME:CEST
DTSTART:20220327T010000
END:DAYLIGHT
BEGIN:STANDARD
TZOFFSETFROM:+0200
TZOFFSETTO:+0100
TZNAME:CET
DTSTART:20221030T010000
END:STANDARD
BEGIN:DAYLIGHT
TZOFFSETFROM:+0100
TZOFFSETTO:+0200
TZNAME:CEST
DTSTART:20230326T010000
END:DAYLIGHT
BEGIN:STANDARD
TZOFFSETFROM:+0200
TZOFFSETTO:+0100
TZNAME:CET
DTSTART:20231029T010000
END:STANDARD
END:VTIMEZONE
BEGIN:VEVENT
DTSTART;TZID=Europe/Berlin:20221207T163000
DTEND;TZID=Europe/Berlin:20221207T180000
DTSTAMP:20260424T104533
CREATED:20221201T120325Z
LAST-MODIFIED:20221201T120346Z
UID:10000167-1670430600-1670436000@www.klinikum-lippe.de
SUMMARY:Interdisziplinärer Onkologischer Arbeitskreis Lippe: Aktuelle Therapie der AML
DESCRIPTION:Der interdisziplinäre onkologische Arbeitskreis Lippe lädt ein zur Fortbildung. \nThema:\nAktuelle Therapie der AML \nReferent (via Zoom):\nDr. J. Hasenkamp\, Klinik für Hämatologie und Medizinische Onkologie\, Uniklinik Göttingen \nOrt:\nBesprechungsraum 2\nKlinikum Lippe\nKlinikstandort Lemgo
URL:https://www.klinikum-lippe.de/veranstaltung/therapie-der-aml/
LOCATION:Klinikum Lippe – Lemgo\, Rintelner Straße 85\, Lemgo\, NRW\, 32657\, Deutschland
CATEGORIES:Experten,Onkologisches Zentrum,Zentrum für Hämatologische Neoplasien
ATTACH;FMTTYPE=image/png:https://www.klinikum-lippe.de/wp-content/uploads/2022/06/Fortbildung.png
END:VEVENT
END:VCALENDAR