BEGIN:VCALENDAR
VERSION:2.0
PRODID:-//Klinikum Lippe - ECPv6.15.17.1//NONSGML v1.0//EN
CALSCALE:GREGORIAN
METHOD:PUBLISH
X-WR-CALNAME:Klinikum Lippe
X-ORIGINAL-URL:https://www.klinikum-lippe.de
X-WR-CALDESC:Veranstaltungen für Klinikum Lippe
REFRESH-INTERVAL;VALUE=DURATION:PT1H
X-Robots-Tag:noindex
X-PUBLISHED-TTL:PT1H
BEGIN:VTIMEZONE
TZID:Europe/Berlin
BEGIN:DAYLIGHT
TZOFFSETFROM:+0100
TZOFFSETTO:+0200
TZNAME:CEST
DTSTART:20230326T010000
END:DAYLIGHT
BEGIN:STANDARD
TZOFFSETFROM:+0200
TZOFFSETTO:+0100
TZNAME:CET
DTSTART:20231029T010000
END:STANDARD
BEGIN:DAYLIGHT
TZOFFSETFROM:+0100
TZOFFSETTO:+0200
TZNAME:CEST
DTSTART:20240331T010000
END:DAYLIGHT
BEGIN:STANDARD
TZOFFSETFROM:+0200
TZOFFSETTO:+0100
TZNAME:CET
DTSTART:20241027T010000
END:STANDARD
BEGIN:DAYLIGHT
TZOFFSETFROM:+0100
TZOFFSETTO:+0200
TZNAME:CEST
DTSTART:20250330T010000
END:DAYLIGHT
BEGIN:STANDARD
TZOFFSETFROM:+0200
TZOFFSETTO:+0100
TZNAME:CET
DTSTART:20251026T010000
END:STANDARD
END:VTIMEZONE
BEGIN:VEVENT
DTSTART;TZID=Europe/Berlin:20241205T183000
DTEND;TZID=Europe/Berlin:20241205T193000
DTSTAMP:20260422T063508
CREATED:20241010T061808Z
LAST-MODIFIED:20241010T061940Z
UID:10000615-1733423400-1733427000@www.klinikum-lippe.de
SUMMARY:Mit Herz & Hightech vor Ort in Barntrup: Neue Hoffnung in der Krebstherapie
DESCRIPTION:Neue Hoffnung in der Krebstherapie: Zielgerichtete Behandlung & Immuntherapien\nReferent: \nProf. Dr. Frank Hartmann\nChefarzt der Klinik für Hämatologie und Internistische Onkologie\, Leiter des Onkologischen Zentrums Lippe \nDie Veranstaltung ist kostenlos. Eine Anmeldung ist nicht notwendig. \n„Klinikum Lippe: Mit Herz & Hightech vor Ort“: Unter diesem Motto bietet das Klinikum ein neues Veranstaltungsformat an. Ärztinnen\, Ärzte und Gesundheitsexperten des Klinikums Lippe sind in allen 16 lippischen Gemeinden zu Gast. Direkt am Wohnort können sich Lipperinnen und Lipper in informativen Vorträgen über spannende Neuigkeiten aus der Welt der Medizin informieren.
URL:https://www.klinikum-lippe.de/veranstaltung/mit-herz-hightech-vor-ort-in-barntrup-neue-hoffnung-in-der-krebstherapie/
LOCATION:Schul- und Bürgerforum Barntrup\, Holstenkamp 7\, Barntrup\, 32683
CATEGORIES:Mit Herz & Hightech vor Ort,Onkologisches Zentrum Lippe,Patienten
ATTACH;FMTTYPE=image/png:https://www.klinikum-lippe.de/wp-content/uploads/2024/10/05.12.2024-Barntrup.png
ORGANIZER;CN="Klinikum Lippe GmbH":MAILTO:info@klinikum-lippe.de
END:VEVENT
END:VCALENDAR