BEGIN:VCALENDAR
VERSION:2.0
PRODID:-//Klinikum Lippe - ECPv6.15.17.1//NONSGML v1.0//EN
CALSCALE:GREGORIAN
METHOD:PUBLISH
X-WR-CALNAME:Klinikum Lippe
X-ORIGINAL-URL:https://www.klinikum-lippe.de
X-WR-CALDESC:Veranstaltungen für Klinikum Lippe
REFRESH-INTERVAL;VALUE=DURATION:PT1H
X-Robots-Tag:noindex
X-PUBLISHED-TTL:PT1H
BEGIN:VTIMEZONE
TZID:Europe/Berlin
BEGIN:DAYLIGHT
TZOFFSETFROM:+0100
TZOFFSETTO:+0200
TZNAME:CEST
DTSTART:20230326T010000
END:DAYLIGHT
BEGIN:STANDARD
TZOFFSETFROM:+0200
TZOFFSETTO:+0100
TZNAME:CET
DTSTART:20231029T010000
END:STANDARD
BEGIN:DAYLIGHT
TZOFFSETFROM:+0100
TZOFFSETTO:+0200
TZNAME:CEST
DTSTART:20240331T010000
END:DAYLIGHT
BEGIN:STANDARD
TZOFFSETFROM:+0200
TZOFFSETTO:+0100
TZNAME:CET
DTSTART:20241027T010000
END:STANDARD
BEGIN:DAYLIGHT
TZOFFSETFROM:+0100
TZOFFSETTO:+0200
TZNAME:CEST
DTSTART:20250330T010000
END:DAYLIGHT
BEGIN:STANDARD
TZOFFSETFROM:+0200
TZOFFSETTO:+0100
TZNAME:CET
DTSTART:20251026T010000
END:STANDARD
END:VTIMEZONE
BEGIN:VEVENT
DTSTART;TZID=Europe/Berlin:20241106T193000
DTEND;TZID=Europe/Berlin:20241106T203000
DTSTAMP:20260422T034421
CREATED:20241009T094113Z
LAST-MODIFIED:20241009T094113Z
UID:10000614-1730921400-1730925000@www.klinikum-lippe.de
SUMMARY:Mit Herz & Hightech vor Ort in Blomberg: Herausforderungen im Kindesalter - Von Kinderkrankheiten bis zur seelischen Gesundheit
DESCRIPTION:Herausforderungen im Kindesalter:\nVon Kinderkrankheiten bis zur seelischen Gesundheit\nReferenten: \n\nDr. Dr. Ulrich Preuss\nDirektor der Klinik für Kinder- und Jugendpsychiatrie\, Psychotherapie und Psychosomatik\nDr. Michael Fleischer\nGemeinschaftspraxis Blomberg\n\nDie Veranstaltung ist kostenlos. Eine Anmeldung ist nicht notwendig. \n„Klinikum Lippe: Mit Herz & Hightech vor Ort“: Unter diesem Motto bietet das Klinikum ein neues Veranstaltungsformat an. Ärztinnen\, Ärzte und Gesundheitsexperten des Klinikums Lippe sind in allen 16 lippischen Gemeinden zu Gast. Direkt am Wohnort können sich Lipperinnen und Lipper in informativen Vorträgen über spannende Neuigkeiten aus der Welt der Medizin informieren.
URL:https://www.klinikum-lippe.de/veranstaltung/mit-herz-hightech-vor-ort-in-blomberg-herausforderungen-im-kindesalter-von-kinderkrankheiten-bis-zur-seelischen-gesundheit/
LOCATION:Alte Meierei\, Brinkstraße 22\, Blomberg\, 32825
CATEGORIES:Mit Herz & Hightech vor Ort,Patienten
ATTACH;FMTTYPE=image/png:https://www.klinikum-lippe.de/wp-content/uploads/2024/10/06.11.2024-Blomberg.png
ORGANIZER;CN="Klinikum Lippe GmbH":MAILTO:info@klinikum-lippe.de
END:VEVENT
BEGIN:VEVENT
DTSTART;TZID=Europe/Berlin:20241120T180000
DTEND;TZID=Europe/Berlin:20241120T190000
DTSTAMP:20260422T034421
CREATED:20240917T081941Z
LAST-MODIFIED:20240917T081941Z
UID:10000488-1732125600-1732129200@www.klinikum-lippe.de
SUMMARY:Mit Herz & Hightech vor Ort in Kalletal-Hohenhausen: Ein guter Start ins Leben
DESCRIPTION:Ein guter Start ins Leben: Gesund durch die Schwangerschaft und das erste Lebensjahr\nReferenten: \n\nDr. Corinna Bryan\nChefärztin der Klinik für Geburtshilfe an der Universitätsklinik für Frauenheilkunde und Geburtshilfe\nPriv.-Doz. Dr. Marc Mendler\nDirektor der Klinik für Kinder- und Jugendmedizin\n\nDie Veranstaltung ist kostenlos. Eine Anmeldung ist nicht notwendig. \n„Klinikum Lippe: Mit Herz & Hightech vor Ort“: Unter diesem Motto bietet das Klinikum ein neues Veranstaltungsformat an. Ärztinnen\, Ärzte und Gesundheitsexperten des Klinikums Lippe sind in allen 16 lippischen Gemeinden zu Gast. Direkt am Wohnort können sich Lipperinnen und Lipper in informativen Vorträgen über spannende Neuigkeiten aus der Welt der Medizin informieren.
URL:https://www.klinikum-lippe.de/veranstaltung/mit-herz-hightech-vor-ort-in-kalletal-hohenhausen-ein-guter-start-ins-leben/
LOCATION:Bürgerbegegnungszentrum Kalletal-Hohenhausen\, Weinkamp 14\, Kalletal\, 32689
CATEGORIES:Klinik für Kinder- und Jugendmedizin,Mit Herz & Hightech vor Ort,Patienten,Universitätsklinik für Frauenheilkunde und Geburtshilfe
ATTACH;FMTTYPE=image/png:https://www.klinikum-lippe.de/wp-content/uploads/2024/09/20.11.2024-Kalletal.png
ORGANIZER;CN="Klinikum Lippe GmbH":MAILTO:info@klinikum-lippe.de
END:VEVENT
END:VCALENDAR