BEGIN:VCALENDAR
VERSION:2.0
PRODID:-//Klinikum Lippe - ECPv6.15.17.1//NONSGML v1.0//EN
CALSCALE:GREGORIAN
METHOD:PUBLISH
X-ORIGINAL-URL:https://www.klinikum-lippe.de
X-WR-CALDESC:Veranstaltungen für Klinikum Lippe
REFRESH-INTERVAL;VALUE=DURATION:PT1H
X-Robots-Tag:noindex
X-PUBLISHED-TTL:PT1H
BEGIN:VTIMEZONE
TZID:Europe/Berlin
BEGIN:DAYLIGHT
TZOFFSETFROM:+0100
TZOFFSETTO:+0200
TZNAME:CEST
DTSTART:20230326T010000
END:DAYLIGHT
BEGIN:STANDARD
TZOFFSETFROM:+0200
TZOFFSETTO:+0100
TZNAME:CET
DTSTART:20231029T010000
END:STANDARD
BEGIN:DAYLIGHT
TZOFFSETFROM:+0100
TZOFFSETTO:+0200
TZNAME:CEST
DTSTART:20240331T010000
END:DAYLIGHT
BEGIN:STANDARD
TZOFFSETFROM:+0200
TZOFFSETTO:+0100
TZNAME:CET
DTSTART:20241027T010000
END:STANDARD
BEGIN:DAYLIGHT
TZOFFSETFROM:+0100
TZOFFSETTO:+0200
TZNAME:CEST
DTSTART:20250330T010000
END:DAYLIGHT
BEGIN:STANDARD
TZOFFSETFROM:+0200
TZOFFSETTO:+0100
TZNAME:CET
DTSTART:20251026T010000
END:STANDARD
END:VTIMEZONE
BEGIN:VEVENT
DTSTART;TZID=Europe/Berlin:20240904T183000
DTEND;TZID=Europe/Berlin:20240904T200000
DTSTAMP:20260422T034809
CREATED:20240618T091449Z
LAST-MODIFIED:20240618T091555Z
UID:10000471-1725474600-1725480000@www.klinikum-lippe.de
SUMMARY:Mit Herz & Hightech vor Ort in Detmold: Moderne Labormedizin aus Lippe
DESCRIPTION:Moderne Labormedizin aus Lippe: Schlüssel für optimale Therapie und Gesundheit\nUniv.-Prof. Dr. Thorsten Kaiser\nDirektor des Universitätsinstituts für Laboratoriumsmedizin\, Mikrobiologie und klinische Pathobiochemie \nDie Veranstaltung ist kostenlos. Eine Anmeldung ist nicht notwendig. \n„Klinikum Lippe: Mit Herz & Hightech vor Ort“: Unter diesem Motto bietet das Klinikum ein neues Veranstaltungsformat an. Ärztinnen\, Ärzte und Gesundheitsexperten des Klinikums Lippe sind dann in allen 16 lippischen Gemeinden zu Gast. Direkt am Wohnort können sich Lipperinnen und Lipper in informativen Vorträgen über spannende Neuigkeiten aus der Welt der Medizin informieren.
URL:https://www.klinikum-lippe.de/veranstaltung/mit-herz-hightech-vor-ort-in-detmold-moderne-labormedizin-aus-lippe/
LOCATION:Campus 9\, Robert-Koch-Straße 2a\, Detmold\, 32756\, Germany
CATEGORIES:Mikrobiologie und klinische Pathobiochemie,Mit Herz & Hightech vor Ort,Patienten,Universitätsinstitut für Laboratoriumsmedizin
ATTACH;FMTTYPE=image/png:https://www.klinikum-lippe.de/wp-content/uploads/2024/06/04.09.2024-Detmold.png
ORGANIZER;CN="Klinikum Lippe GmbH":MAILTO:info@klinikum-lippe.de
END:VEVENT
BEGIN:VEVENT
DTSTART;TZID=Europe/Berlin:20240916T183000
DTEND;TZID=Europe/Berlin:20240916T200000
DTSTAMP:20260422T034809
CREATED:20240618T092040Z
LAST-MODIFIED:20240618T092040Z
UID:10000472-1726511400-1726516800@www.klinikum-lippe.de
SUMMARY:Mit Herz & Hightech vor Ort in Schlangen: Allergien und Lebensmittelunverträglichkeiten
DESCRIPTION:Allergien und Lebensmittelunverträglichkeiten: Sicher diagnostizieren und optimal einstellen \nReferenten: \n\nPriv.-Doz. Dr. Johannes Tebbe\nChefarzt der Klinik für Gastroenterologie und Infektiologie\nPriv.-Doz. Dr. Helger Stege\nDirektor der Klinik für Dermatologie\n\nDie Veranstaltung ist kostenlos. Eine Anmeldung ist nicht notwendig. \n„Klinikum Lippe: Mit Herz & Hightech vor Ort“: Unter diesem Motto bietet das Klinikum ein neues Veranstaltungsformat an. Ärztinnen\, Ärzte und Gesundheitsexperten des Klinikums Lippe sind dann in allen 16 lippischen Gemeinden zu Gast. Direkt am Wohnort können sich Lipperinnen und Lipper in informativen Vorträgen über spannende Neuigkeiten aus der Welt der Medizin informieren.
URL:https://www.klinikum-lippe.de/veranstaltung/mit-herz-hightech-vor-ort-in-schlangen-allergien-und-lebensmittelunvertraeglichkeiten/
LOCATION:Bürgerhaus Schlangen\, Rosenstraße 11\, Schlangen\, 33189
CATEGORIES:Klinik für Dermatologie,Klinik für Gastroenterologie und Infektiologie,Mit Herz & Hightech vor Ort,Patienten
ATTACH;FMTTYPE=image/png:https://www.klinikum-lippe.de/wp-content/uploads/2024/06/16.09.2024-Schlangen.png
ORGANIZER;CN="Klinikum Lippe GmbH":MAILTO:info@klinikum-lippe.de
END:VEVENT
END:VCALENDAR