BEGIN:VCALENDAR
VERSION:2.0
PRODID:-//Klinikum Lippe - ECPv6.15.20//NONSGML v1.0//EN
CALSCALE:GREGORIAN
METHOD:PUBLISH
X-WR-CALNAME:Klinikum Lippe
X-ORIGINAL-URL:https://www.klinikum-lippe.de
X-WR-CALDESC:Veranstaltungen für Klinikum Lippe
REFRESH-INTERVAL;VALUE=DURATION:PT1H
X-Robots-Tag:noindex
X-PUBLISHED-TTL:PT1H
BEGIN:VTIMEZONE
TZID:Europe/Berlin
BEGIN:DAYLIGHT
TZOFFSETFROM:+0100
TZOFFSETTO:+0200
TZNAME:CEST
DTSTART:20240331T010000
END:DAYLIGHT
BEGIN:STANDARD
TZOFFSETFROM:+0200
TZOFFSETTO:+0100
TZNAME:CET
DTSTART:20241027T010000
END:STANDARD
BEGIN:DAYLIGHT
TZOFFSETFROM:+0100
TZOFFSETTO:+0200
TZNAME:CEST
DTSTART:20250330T010000
END:DAYLIGHT
BEGIN:STANDARD
TZOFFSETFROM:+0200
TZOFFSETTO:+0100
TZNAME:CET
DTSTART:20251026T010000
END:STANDARD
BEGIN:DAYLIGHT
TZOFFSETFROM:+0100
TZOFFSETTO:+0200
TZNAME:CEST
DTSTART:20260329T010000
END:DAYLIGHT
BEGIN:STANDARD
TZOFFSETFROM:+0200
TZOFFSETTO:+0100
TZNAME:CET
DTSTART:20261025T010000
END:STANDARD
END:VTIMEZONE
BEGIN:VEVENT
DTSTART;TZID=Europe/Berlin:20250828T080000
DTEND;TZID=Europe/Berlin:20250829T130000
DTSTAMP:20260424T032157
CREATED:20250728T081941Z
LAST-MODIFIED:20250801T063832Z
UID:10001030-1756368000-1756472400@www.klinikum-lippe.de
SUMMARY:Metabolic Bariatric Robotic Surgery
DESCRIPTION:Thursday\, August 28\, 2025 \n08:00 Welcome (M. Vladimirov\, Sonja Chiappetta) \n09:00 Live surgeries (primary procedures) \n12:30 Lunch break \n13:30 Step-by-step: Robotic Sleeve Gastrectomy (M. Vladimirov) \n14:15 Step-by-step: Robotic Roux-en-Y Gastric Bypass (M. Vladimirov) \n15:00 Hands-on da Vinci robot (Silicon models – M. R. Gonçalves\, Z. Madarasz) \n17:00 End of day 1 \n19:00 Group dinner \nFriday\, August 29\, 2025 \n08:00 Live surgery (Revision procedure) \n11:00 Robotic training curriculum (M. Vladimirov) \n11:30 Benchmarks for Primary Robotic Metabolic Bariatric Surgery (E. Ruiz Uçar) \n12:00 Role of robotics in Metabolic Bariatric Revision Surgery (P. Lainas) \n13:00 End of day 2 \nProgram Scientific direction \nDr. Miljana Vladimirov\, MHBA\, PD. Dr. Sonja Chiappetta \nFaculty \nSonja Chiappetta\, Miljana Vladimirov\, Elena Ruiz Uçar\, Mario Rui Gonçalves\, Panagiotis Lainas\, Zsolt Madarasz\, Jan Hoppe\, Firas Makdesi \nEndorsed by \nIFSO \nOrganized by \nUniversity of OWL Campus Lippe Department of General\, Visceral and Robotic Surgery \nDownload
URL:https://www.klinikum-lippe.de/veranstaltung/metabolic-bariatric-robotic-surgery/
LOCATION:Campus 9\, Robert-Koch-Straße 2a\, Detmold\, 32756\, Germany
CATEGORIES:Alllgemein- und Viszeralchirurgie,Experten
ATTACH;FMTTYPE=image/png:https://www.klinikum-lippe.de/wp-content/uploads/2025/07/Design-ohne-Titel.png
END:VEVENT
END:VCALENDAR