BEGIN:VCALENDAR
VERSION:2.0
PRODID:-//Klinikum Lippe - ECPv6.15.20//NONSGML v1.0//EN
CALSCALE:GREGORIAN
METHOD:PUBLISH
X-WR-CALNAME:Klinikum Lippe
X-ORIGINAL-URL:https://www.klinikum-lippe.de
X-WR-CALDESC:Veranstaltungen für Klinikum Lippe
REFRESH-INTERVAL;VALUE=DURATION:PT1H
X-Robots-Tag:noindex
X-PUBLISHED-TTL:PT1H
BEGIN:VTIMEZONE
TZID:Europe/Berlin
BEGIN:DAYLIGHT
TZOFFSETFROM:+0100
TZOFFSETTO:+0200
TZNAME:CEST
DTSTART:20220327T010000
END:DAYLIGHT
BEGIN:STANDARD
TZOFFSETFROM:+0200
TZOFFSETTO:+0100
TZNAME:CET
DTSTART:20221030T010000
END:STANDARD
BEGIN:DAYLIGHT
TZOFFSETFROM:+0100
TZOFFSETTO:+0200
TZNAME:CEST
DTSTART:20230326T010000
END:DAYLIGHT
BEGIN:STANDARD
TZOFFSETFROM:+0200
TZOFFSETTO:+0100
TZNAME:CET
DTSTART:20231029T010000
END:STANDARD
BEGIN:DAYLIGHT
TZOFFSETFROM:+0100
TZOFFSETTO:+0200
TZNAME:CEST
DTSTART:20240331T010000
END:DAYLIGHT
BEGIN:STANDARD
TZOFFSETFROM:+0200
TZOFFSETTO:+0100
TZNAME:CET
DTSTART:20241027T010000
END:STANDARD
END:VTIMEZONE
BEGIN:VEVENT
DTSTART;TZID=Europe/Berlin:20231012T180000
DTEND;TZID=Europe/Berlin:20231012T200000
DTSTAMP:20260423T124017
CREATED:20231006T090912Z
LAST-MODIFIED:20231006T090916Z
UID:10000233-1697133600-1697140800@www.klinikum-lippe.de
SUMMARY:Gesundheitskiosk Hörstmar: Wohin im Notfall?
DESCRIPTION:Wohin im Notfall? \nAnsprechpartner und Anlaufstellen im Notfall\,\nmit Matthias Röckemann-Schnare\, Notfallsanitäter und Teamleiter Lippe Nordost\, Rettungswache Kreis Lippe. \nInformieren Sie sich beim Infoabend des Gesundheitskiosk Hörstmar über das richtige Vorgehen im Notfall! \nDownload Info-Flyer
URL:https://www.klinikum-lippe.de/veranstaltung/gesundheitskiosk-hoerstmar-wohin-im-notfall/
LOCATION:Gesundheitskiosk Hörstmar\, Am Sportplatz 7\, Lemgo\, NRW\, 32657\, Deutschland
CATEGORIES:Gesundheitskiosk Hörstmar
ATTACH;FMTTYPE=image/png:https://www.klinikum-lippe.de/wp-content/uploads/2022/07/2022_GK_Website-710-×-375-px.png
ORGANIZER;CN="Gesundheitskiosk H%C3%B6rstmar":MAILTO:hallo@gesundheitskiosk-hoerstmar.de
END:VEVENT
END:VCALENDAR