BEGIN:VCALENDAR
VERSION:2.0
PRODID:-//Klinikum Lippe - ECPv6.15.20//NONSGML v1.0//EN
CALSCALE:GREGORIAN
METHOD:PUBLISH
X-ORIGINAL-URL:https://www.klinikum-lippe.de
X-WR-CALDESC:Veranstaltungen für Klinikum Lippe
REFRESH-INTERVAL;VALUE=DURATION:PT1H
X-Robots-Tag:noindex
X-PUBLISHED-TTL:PT1H
BEGIN:VTIMEZONE
TZID:Europe/Berlin
BEGIN:DAYLIGHT
TZOFFSETFROM:+0100
TZOFFSETTO:+0200
TZNAME:CEST
DTSTART:20210328T010000
END:DAYLIGHT
BEGIN:STANDARD
TZOFFSETFROM:+0200
TZOFFSETTO:+0100
TZNAME:CET
DTSTART:20211031T010000
END:STANDARD
BEGIN:DAYLIGHT
TZOFFSETFROM:+0100
TZOFFSETTO:+0200
TZNAME:CEST
DTSTART:20220327T010000
END:DAYLIGHT
BEGIN:STANDARD
TZOFFSETFROM:+0200
TZOFFSETTO:+0100
TZNAME:CET
DTSTART:20221030T010000
END:STANDARD
BEGIN:DAYLIGHT
TZOFFSETFROM:+0100
TZOFFSETTO:+0200
TZNAME:CEST
DTSTART:20230326T010000
END:DAYLIGHT
BEGIN:STANDARD
TZOFFSETFROM:+0200
TZOFFSETTO:+0100
TZNAME:CET
DTSTART:20231029T010000
END:STANDARD
END:VTIMEZONE
BEGIN:VEVENT
DTSTART;TZID=Europe/Berlin:20221215T160000
DTEND;TZID=Europe/Berlin:20221215T180000
DTSTAMP:20260424T032350
CREATED:20221212T124118Z
LAST-MODIFIED:20221212T124359Z
UID:10000172-1671120000-1671127200@www.klinikum-lippe.de
SUMMARY:Gesundheitskiosk Hörstmar: Kino im Kiosk
DESCRIPTION:Kino im Kiosk: Adventskaffeetrinken mit Filmvorführung „Honig im Kopf“ | 15.12.2022 ab 16.00 Uhr \nAnmeldung: \ngesundheitskiosk-lemgo(at)t-online.de oder\nTelefon 05261 700 93 69 \nVeranstalter: \nDer kirchliche Träger- und Förderverein Diakonie ambulant e.V. in Kooperation mit dem Gesundheitskiosk Hörstmar und DAS DACH e.V.
URL:https://www.klinikum-lippe.de/veranstaltung/gesundheitskiosk-hoerstmar-kino-im-kiosk/
LOCATION:Gesundheitskiosk Hörstmar\, Am Sportplatz 7\, Lemgo\, NRW\, 32657\, Deutschland
CATEGORIES:Gesundheitskiosk Hörstmar
ATTACH;FMTTYPE=image/png:https://www.klinikum-lippe.de/wp-content/uploads/2022/07/2022_GK_Website-710-×-375-px.png
ORGANIZER;CN="Gesundheitskiosk H%C3%B6rstmar":MAILTO:hallo@gesundheitskiosk-hoerstmar.de
END:VEVENT
END:VCALENDAR