BEGIN:VCALENDAR
VERSION:2.0
PRODID:-//Klinikum Lippe - ECPv6.15.17.1//NONSGML v1.0//EN
CALSCALE:GREGORIAN
METHOD:PUBLISH
X-ORIGINAL-URL:https://www.klinikum-lippe.de
X-WR-CALDESC:Veranstaltungen für Klinikum Lippe
REFRESH-INTERVAL;VALUE=DURATION:PT1H
X-Robots-Tag:noindex
X-PUBLISHED-TTL:PT1H
BEGIN:VTIMEZONE
TZID:Europe/Berlin
BEGIN:DAYLIGHT
TZOFFSETFROM:+0100
TZOFFSETTO:+0200
TZNAME:CEST
DTSTART:20240331T010000
END:DAYLIGHT
BEGIN:STANDARD
TZOFFSETFROM:+0200
TZOFFSETTO:+0100
TZNAME:CET
DTSTART:20241027T010000
END:STANDARD
BEGIN:DAYLIGHT
TZOFFSETFROM:+0100
TZOFFSETTO:+0200
TZNAME:CEST
DTSTART:20250330T010000
END:DAYLIGHT
BEGIN:STANDARD
TZOFFSETFROM:+0200
TZOFFSETTO:+0100
TZNAME:CET
DTSTART:20251026T010000
END:STANDARD
BEGIN:DAYLIGHT
TZOFFSETFROM:+0100
TZOFFSETTO:+0200
TZNAME:CEST
DTSTART:20260329T010000
END:DAYLIGHT
BEGIN:STANDARD
TZOFFSETFROM:+0200
TZOFFSETTO:+0100
TZNAME:CET
DTSTART:20261025T010000
END:STANDARD
END:VTIMEZONE
BEGIN:VEVENT
DTSTART;TZID=Europe/Berlin:20250820T180000
DTEND;TZID=Europe/Berlin:20250820T193000
DTSTAMP:20260423T010402
CREATED:20241128T081206Z
LAST-MODIFIED:20250408T153048Z
UID:10000684-1755712800-1755718200@www.klinikum-lippe.de
SUMMARY:Elternabend mit Kreißsaalführung I Teil 3: Mein Baby hat Hunger
DESCRIPTION:Schwangerschaft und Geburt sind ganz schön aufregend. Wir wollen Sie gern während dieser spannenden Zeit begleiten – mit Informationen\, hilfreichen Tipps und unserer langjährigen Erfahrung. \nIn der Veranstaltungsreihe „Elternabend im Klinikum“ widmen wir uns insgesamt fünf verschiedenen Themenbereichen. Sie entscheiden\, ob Sie alle Veranstaltungen besuchen oder nur das aussuchen\, was für Sie von Interesse ist. \nEine Anmeldung zur Veranstaltung ist nicht notwendig. \nElternabende \n\nMein Baby wächst heran\nMein Baby kommt bald\nMein Baby hat Hunger\nMein Baby im neuen Zuhause\nMein Baby bringt Veränderung\n\nIm Anschluss an die jeweiligen Vorträge und Fragerunden können Sie unseren Kreißsaal besichtigen. \nAlle Termine finden Sie in unserem Veranstaltungskalender. \nTeil 3: Mein Baby hat Hunger \nThemen: Säuglingsernährung\, Stillen \nReferenten: Geburtshilfe\, Hebammen\, Stillberaterinnen\, Kinderklinik \nVeranstaltungsort: Konferenzbereich im Medicum Detmold\, Röntgenstraße 16\, Detmold \nWir freuen uns auf Sie und Ihr Baby!
URL:https://www.klinikum-lippe.de/veranstaltung/elternabend-03-3/2025-08-20/
LOCATION:Medicum Detmold\, Konferenzräume im 4. Obergeschoss\, Röntgenstraße 16\, Detmold\, 32756
CATEGORIES:Elternabend
ATTACH;FMTTYPE=image/png:https://www.klinikum-lippe.de/wp-content/uploads/2023/11/Titel_Veranstaltungen.png
END:VEVENT
BEGIN:VEVENT
DTSTART;TZID=Europe/Berlin:20250827T180000
DTEND;TZID=Europe/Berlin:20250827T193000
DTSTAMP:20260423T010402
CREATED:20241128T081432Z
LAST-MODIFIED:20250408T153111Z
UID:10000664-1756317600-1756323000@www.klinikum-lippe.de
SUMMARY:Elternabend mit Kreißsaalführung I Teil 4: Mein Baby im neuen Zuhause
DESCRIPTION:Schwangerschaft und Geburt sind ganz schön aufregend. Wir wollen Sie gern während dieser spannenden Zeit begleiten – mit Informationen\, hilfreichen Tipps und unserer langjährigen Erfahrung. \nIn der Veranstaltungsreihe „Elternabend im Klinikum“ widmen wir uns insgesamt fünf verschiedenen Themenbereichen. Sie entscheiden\, ob Sie alle Veranstaltungen besuchen oder nur das aussuchen\, was für Sie von Interesse ist. \nEine Anmeldung zur Veranstaltung ist nicht notwendig. \nElternabende \n\nMein Baby wächst heran\nMein Baby kommt bald\nMein Baby hat Hunger\nMein Baby im neuen Zuhause\nMein Baby bringt Veränderung\n\nIm Anschluss an die jeweiligen Vorträge und Fragerunden können Sie unseren Kreißsaal besichtigen. \nAlle Termine finden Sie in unserem Veranstaltungskalender. \nTeil 4: Mein Baby im neuen Zuhause \nThemen: Kinderklinik\, Kinderarzt\, Vorsorgeuntersuchungen\, Hilfen für die erste Zeit Zuhause \nReferenten: Geburtshilfe\, Hebammen\, Stillberaterinnen\, Kinderklinik \nVeranstaltungsort: Konferenzbereich im Medicum Detmold\, Röntgenstraße 16\, Detmold \nWir freuen uns auf Sie und Ihr Baby!
URL:https://www.klinikum-lippe.de/veranstaltung/elternabend-i-teil-4-mein-baby-im-neuen-zuhause-2/2025-08-27/
LOCATION:Medicum Detmold\, Konferenzräume im 4. Obergeschoss\, Röntgenstraße 16\, Detmold\, 32756
CATEGORIES:Elternabend
ATTACH;FMTTYPE=image/png:https://www.klinikum-lippe.de/wp-content/uploads/2023/11/Titel_Veranstaltungen.png
END:VEVENT
END:VCALENDAR