BEGIN:VCALENDAR
VERSION:2.0
PRODID:-//Klinikum Lippe - ECPv6.15.17.1//NONSGML v1.0//EN
CALSCALE:GREGORIAN
METHOD:PUBLISH
X-WR-CALNAME:Klinikum Lippe
X-ORIGINAL-URL:https://www.klinikum-lippe.de
X-WR-CALDESC:Veranstaltungen für Klinikum Lippe
REFRESH-INTERVAL;VALUE=DURATION:PT1H
X-Robots-Tag:noindex
X-PUBLISHED-TTL:PT1H
BEGIN:VTIMEZONE
TZID:Europe/Berlin
BEGIN:DAYLIGHT
TZOFFSETFROM:+0100
TZOFFSETTO:+0200
TZNAME:CEST
DTSTART:20230326T010000
END:DAYLIGHT
BEGIN:STANDARD
TZOFFSETFROM:+0200
TZOFFSETTO:+0100
TZNAME:CET
DTSTART:20231029T010000
END:STANDARD
BEGIN:DAYLIGHT
TZOFFSETFROM:+0100
TZOFFSETTO:+0200
TZNAME:CEST
DTSTART:20240331T010000
END:DAYLIGHT
BEGIN:STANDARD
TZOFFSETFROM:+0200
TZOFFSETTO:+0100
TZNAME:CET
DTSTART:20241027T010000
END:STANDARD
BEGIN:DAYLIGHT
TZOFFSETFROM:+0100
TZOFFSETTO:+0200
TZNAME:CEST
DTSTART:20250330T010000
END:DAYLIGHT
BEGIN:STANDARD
TZOFFSETFROM:+0200
TZOFFSETTO:+0100
TZNAME:CET
DTSTART:20251026T010000
END:STANDARD
END:VTIMEZONE
BEGIN:VEVENT
DTSTART;TZID=Europe/Berlin:20240409T193000
DTEND;TZID=Europe/Berlin:20240409T210000
DTSTAMP:20260423T083920
CREATED:20240206T104824Z
LAST-MODIFIED:20240318T080736Z
UID:10000442-1712691000-1712696400@www.klinikum-lippe.de
SUMMARY:Mit Herz & Hightech vor Ort - in Horn-Bad Meinberg I Adipositaschirurgie: Leichter leben in Lippe
DESCRIPTION:Leichter leben: Was kann bariatrische Chirurgie heute leisten?\nDr. Michael Leitz\nLeitender Arzt der Universitätsklinik für Allgemein- und Viszeralchirurgie und am Adipositaszentrum Lippe \nSoulfood? Das Zusammenspiel von Ernährung\, Wohlbefinden und Gewicht\nSilka Göhler\nDiplom-Oecotrophologin und Leiterin der Ernährungsberatung am Adipositaszentrum Lippe \nDie Veranstaltung ist kostenlos. Eine Anmeldung ist nicht notwendig. \n„Klinikum Lippe: Mit Herz & Hightech vor Ort“: Unter diesem Motto bietet das Klinikum in den nächsten Monaten ein neues Veranstaltungsformat an. Ärztinnen\, Ärzte und Gesundheitsexperten des Klinikums Lippe sind dann in allen 16 lippischen Gemeinden zu Gast. Direkt am Wohnort können sich Lipperinnen und Lipper in informativen Vorträgen über spannende Neuigkeiten aus der Welt der Medizin informieren.
URL:https://www.klinikum-lippe.de/veranstaltung/mit-herz-hightech-vor-ort-in-horn-bad-meinberg-i-adipositaschirurgie-leichter-leben-in-lippe/
LOCATION:Raum Norderteich\, Kurgastzentrum Horn-Bad Meinberg\, Parkstraße 10\, Horn-Bad Meinberg
CATEGORIES:Mit Herz & Hightech vor Ort,Universitätsklinik für Allgemein- und Viszeralchirurgie
ATTACH;FMTTYPE=image/png:https://www.klinikum-lippe.de/wp-content/uploads/2024/02/09.04.2024-Horn-Bad-Meinberg.png
ORGANIZER;CN="Klinikum Lippe GmbH":MAILTO:info@klinikum-lippe.de
END:VEVENT
END:VCALENDAR