BEGIN:VCALENDAR
VERSION:2.0
PRODID:-//Klinikum Lippe - ECPv6.15.17.1//NONSGML v1.0//EN
CALSCALE:GREGORIAN
METHOD:PUBLISH
X-ORIGINAL-URL:https://www.klinikum-lippe.de
X-WR-CALDESC:Veranstaltungen für Klinikum Lippe
REFRESH-INTERVAL;VALUE=DURATION:PT1H
X-Robots-Tag:noindex
X-PUBLISHED-TTL:PT1H
BEGIN:VTIMEZONE
TZID:Europe/Berlin
BEGIN:DAYLIGHT
TZOFFSETFROM:+0100
TZOFFSETTO:+0200
TZNAME:CEST
DTSTART:20230326T010000
END:DAYLIGHT
BEGIN:STANDARD
TZOFFSETFROM:+0200
TZOFFSETTO:+0100
TZNAME:CET
DTSTART:20231029T010000
END:STANDARD
BEGIN:DAYLIGHT
TZOFFSETFROM:+0100
TZOFFSETTO:+0200
TZNAME:CEST
DTSTART:20240331T010000
END:DAYLIGHT
BEGIN:STANDARD
TZOFFSETFROM:+0200
TZOFFSETTO:+0100
TZNAME:CET
DTSTART:20241027T010000
END:STANDARD
BEGIN:DAYLIGHT
TZOFFSETFROM:+0100
TZOFFSETTO:+0200
TZNAME:CEST
DTSTART:20250330T010000
END:DAYLIGHT
BEGIN:STANDARD
TZOFFSETFROM:+0200
TZOFFSETTO:+0100
TZNAME:CET
DTSTART:20251026T010000
END:STANDARD
END:VTIMEZONE
BEGIN:VEVENT
DTSTART;TZID=Europe/Berlin:20241203T173000
DTEND;TZID=Europe/Berlin:20241203T190000
DTSTAMP:20260420T083454
CREATED:20241111T085930Z
LAST-MODIFIED:20241111T092121Z
UID:10000622-1733247000-1733252400@www.klinikum-lippe.de
SUMMARY:BRCAplus Themenreise Nachsorge
DESCRIPTION:Informationsveranstaltung für Patientinnen & Angehörige über die Rolle von Risikogenen bei Eierstockkrebs und weitere gynäkologische Tumorerkrankungen\nPROGRAMM \nWie sieht die beste Nachsorge aus?\nProf. Dr. med. Beyhan Ataseven\nDirektorin der Universitätsklinik für Frauenheilkunde und Geburtshilfe\, Klinikum Lippe \nLeitliniengerechte Nachsorge aus Patientinnensicht bei ESK\nKirsten Hahn\n2. Vorsitzende Gynäkologische Krebserkrankungen Deutschland e.V. \nNachsorge und Therapiemonitoring\, wie passt das zusammen?\nProf. Dr. med. Jalid Sehouli\nDirektor der Klinik für Gynäkologie mit Zentrum für Onkologische Chirurgie\, Charité Campus Virchow-Klinikum \nWann und wie vorbeugen? Prophylaktische Maßnahmen und Chancen bei BRCA/HRD-Genmutation\nDr. Nina Pauly\nOberärztin der Universitätsklinik für Frauenheilkunde und Geburtshilfe\, Klinikum Lippe \nDIE VERANSTALTUNG WIRD BEHERBERGT VON \nUniversitätsklinik für Frauenheilkunde und Geburtshilfe\, Klinikum Lippe \nTEILNAHME \nDie Teilnahme ist vor Ort oder via Zoom möglich. \nTeilnahme vor Ort\nGebäude Campus 9\nRobert-Koch-Straße 2a\n32756 Detmold \nTeilnahme Online \nSie erhalten den Link für die Online-Teilnahme auf der Internetseite www.brca-infotour.de \n  \n  \n  \n 
URL:https://www.klinikum-lippe.de/veranstaltung/brcaplus-themenreise-nachsorge/
LOCATION:Campus 9\, Robert-Koch-Straße 2a\, Detmold\, 32756\, Germany
CATEGORIES:Brustzentrum Lippe,Gynäkologisches Krebszentrum Lippe,Universitätsklinik für Frauenheilkunde und Geburtshilfe
ATTACH;FMTTYPE=image/png:https://www.klinikum-lippe.de/wp-content/uploads/2024/11/Bildschirmfoto-2024-11-11-um-09.37.36.png
ORGANIZER;CN="Universit%C3%A4tsklinik fu%CC%88r Frauenheilkunde und Geburtshilfe":MAILTO:frauenklinik@klinikum-lippe.de
END:VEVENT
END:VCALENDAR