BEGIN:VCALENDAR
VERSION:2.0
PRODID:-//Klinikum Lippe - ECPv6.15.20//NONSGML v1.0//EN
CALSCALE:GREGORIAN
METHOD:PUBLISH
X-WR-CALNAME:Klinikum Lippe
X-ORIGINAL-URL:https://www.klinikum-lippe.de
X-WR-CALDESC:Veranstaltungen für Klinikum Lippe
REFRESH-INTERVAL;VALUE=DURATION:PT1H
X-Robots-Tag:noindex
X-PUBLISHED-TTL:PT1H
BEGIN:VTIMEZONE
TZID:Europe/Berlin
BEGIN:DAYLIGHT
TZOFFSETFROM:+0100
TZOFFSETTO:+0200
TZNAME:CEST
DTSTART:20220327T010000
END:DAYLIGHT
BEGIN:STANDARD
TZOFFSETFROM:+0200
TZOFFSETTO:+0100
TZNAME:CET
DTSTART:20221030T010000
END:STANDARD
BEGIN:DAYLIGHT
TZOFFSETFROM:+0100
TZOFFSETTO:+0200
TZNAME:CEST
DTSTART:20230326T010000
END:DAYLIGHT
BEGIN:STANDARD
TZOFFSETFROM:+0200
TZOFFSETTO:+0100
TZNAME:CET
DTSTART:20231029T010000
END:STANDARD
BEGIN:DAYLIGHT
TZOFFSETFROM:+0100
TZOFFSETTO:+0200
TZNAME:CEST
DTSTART:20240331T010000
END:DAYLIGHT
BEGIN:STANDARD
TZOFFSETFROM:+0200
TZOFFSETTO:+0100
TZNAME:CET
DTSTART:20241027T010000
END:STANDARD
END:VTIMEZONE
BEGIN:VEVENT
DTSTART;TZID=Europe/Berlin:20230128T090000
DTEND;TZID=Europe/Berlin:20230128T130000
DTSTAMP:20260424T160353
CREATED:20230123T095246Z
LAST-MODIFIED:20230123T131107Z
UID:10000174-1674896400-1674910800@www.klinikum-lippe.de
SUMMARY:Schau rein\, was für dich drinsteckt!: Infotag "MTA werden"
DESCRIPTION:Du machst gerade deinen Schulabschluss an der Realschule oder am Gymnasium?\nDu suchst eine interessante Ausbildung?\nDu hast Spaß an Technik\, möchtest aber auch mit Menschen arbeiten?\nDu suchst einen zukunftssicheren und abwechslungsreichen Beruf? \nDann komm zum MTR-Aktionstag und erlebe die spannende Welt der medizinischen Radiologie! \nWann? Samstag\, 28. Januar 2023\, von 9 bis 13 Uhr\nWo? Klinikum Lippe\, Standort Lemgo\, Radiologie\, Rintelner Str. 85\, 32657 Lemgo \nBerufserfahrene MTRA und Auszubildende laden dich zu Vorführungen ein und beraten dich zum Berufsbild. \n \nBitte beachte\, dass für diese Veranstaltung ein negativer Corona-Schnelltest vorliegen muss und du eine FFP2-Maske tragen musst. Danke! \n© Bilder und Flyer\nDeutsche Röntgengesellschaft\nDeutsche Gesellschaft für Medizinische Technolog:innen für Radiologie\nDachverband für Technologen/-innen und Analytiker/-innen in der Medizin Deutschland e.V.
URL:https://www.klinikum-lippe.de/veranstaltung/mtawerden/
LOCATION:Klinikum Lippe – Lemgo\, Rintelner Straße 85\, Lemgo\, NRW\, 32657\, Deutschland
ATTACH;FMTTYPE=image/png:https://www.klinikum-lippe.de/wp-content/uploads/2023/01/20230128_MT-Schule_web.png
END:VEVENT
END:VCALENDAR