BEGIN:VCALENDAR
VERSION:2.0
PRODID:-//Klinikum Lippe - ECPv6.15.17.1//NONSGML v1.0//EN
CALSCALE:GREGORIAN
METHOD:PUBLISH
X-WR-CALNAME:Klinikum Lippe
X-ORIGINAL-URL:https://www.klinikum-lippe.de
X-WR-CALDESC:Veranstaltungen für Klinikum Lippe
REFRESH-INTERVAL;VALUE=DURATION:PT1H
X-Robots-Tag:noindex
X-PUBLISHED-TTL:PT1H
BEGIN:VTIMEZONE
TZID:Europe/Berlin
BEGIN:DAYLIGHT
TZOFFSETFROM:+0100
TZOFFSETTO:+0200
TZNAME:CEST
DTSTART:20250330T010000
END:DAYLIGHT
BEGIN:STANDARD
TZOFFSETFROM:+0200
TZOFFSETTO:+0100
TZNAME:CET
DTSTART:20251026T010000
END:STANDARD
BEGIN:DAYLIGHT
TZOFFSETFROM:+0100
TZOFFSETTO:+0200
TZNAME:CEST
DTSTART:20260329T010000
END:DAYLIGHT
BEGIN:STANDARD
TZOFFSETFROM:+0200
TZOFFSETTO:+0100
TZNAME:CET
DTSTART:20261025T010000
END:STANDARD
BEGIN:DAYLIGHT
TZOFFSETFROM:+0100
TZOFFSETTO:+0200
TZNAME:CEST
DTSTART:20270328T010000
END:DAYLIGHT
BEGIN:STANDARD
TZOFFSETFROM:+0200
TZOFFSETTO:+0100
TZNAME:CET
DTSTART:20271031T010000
END:STANDARD
END:VTIMEZONE
BEGIN:VEVENT
DTSTART;TZID=Europe/Berlin:20260421T080000
DTEND;TZID=Europe/Berlin:20260421T090000
DTSTAMP:20260421T030827
CREATED:20260113T163529Z
LAST-MODIFIED:20260215T151928Z
UID:10001740-1776758400-1776762000@www.klinikum-lippe.de
SUMMARY:Lungenkrebszentrum Lippe: Interdisziplinäre Tumorkonferenz
DESCRIPTION:Wöchentlich findet die interdisziplinäre Tumorkonferenz des LKZ Lippe statt\, aktuell jeweils dienstags um 8.00 Uhr. \nAnmeldungen für unsere Tumorkonferenz können mit dem Anmeldebogen oder telefonisch an unser Sekretariat\, Telefon 05261 26-4141 erfolgen.
URL:https://www.klinikum-lippe.de/veranstaltung/lkz-tumorkonferenz-2026/2026-04-21/
LOCATION:Fortbildung – Seminarraum Radiologie\, Rintelner Straße 85\, Lemgo\, 32657\, Deutschland
CATEGORIES:Lungenkrebszentrum,Tumorkonferenz
ATTACH;FMTTYPE=image/png:https://www.klinikum-lippe.de/wp-content/uploads/2024/12/Tumorkonferenz.png
END:VEVENT
BEGIN:VEVENT
DTSTART;TZID=Europe/Berlin:20260421T141500
DTEND;TZID=Europe/Berlin:20260421T170000
DTSTAMP:20260421T030827
CREATED:20260113T162411Z
LAST-MODIFIED:20260113T162506Z
UID:10001472-1776780900-1776790800@www.klinikum-lippe.de
SUMMARY:Zentrum für Hämatologische Neoplasien: Interdisziplinäre Tumorkonferenz
DESCRIPTION:Für alle Tumoren\, die wir in unseren Zentren behandeln\, findet einmal wöchentlich eine Tumorkonferenz statt. Ziel ist es\, dem Patienten eine optimale und individuell angepasste Therapie für seine Erkrankung anzubieten. Einweiser sind herzlich eingeladen\, selber Patienten in diese Konferenz einzubringen und auch teilzunehmen. \nEine rechtzeitige Anmeldung mittels Tumorkonferenzanmeldebogen für die Teilnahme an der nächsten Tumorkonferenz muss bis zum jeweiligen Vortag (bis 12.00 Uhr) an das onkologische Sekretariat gefaxt werden.
URL:https://www.klinikum-lippe.de/veranstaltung/zhn-tumorkonferenz-2026/2026-04-21/
CATEGORIES:Hämatologische Neoplasien,Tumorkonferenz
ATTACH;FMTTYPE=image/png:https://www.klinikum-lippe.de/wp-content/uploads/2024/12/Tumorkonferenz.png
END:VEVENT
BEGIN:VEVENT
DTSTART;TZID=Europe/Berlin:20260421T141500
DTEND;TZID=Europe/Berlin:20260421T170000
DTSTAMP:20260421T030827
CREATED:20260113T162849Z
LAST-MODIFIED:20260113T162923Z
UID:10001553-1776780900-1776790800@www.klinikum-lippe.de
SUMMARY:Hautkrebszentrum Lippe: Interdisziplinäre Tumorkonferenz
DESCRIPTION:Für alle Tumoren\, die wir in unseren Zentren behandeln\, findet einmal wöchentlich eine Tumorkonferenz statt. Ziel ist es\, dem Patienten eine optimale und individuell angepasste Therapie für seine Erkrankung anzubieten. Einweiser sind herzlich eingeladen\, selber Patienten in diese Konferenz einzubringen und auch teilzunehmen. \nEine rechtzeitige Anmeldung mittels Tumorkonferenzanmeldebogen für die Teilnahme an der nächsten Tumorkonferenz muss bis zum jeweiligen Vortag (bis 12.00 Uhr) an das onkologische Sekretariat gefaxt werden.
URL:https://www.klinikum-lippe.de/veranstaltung/hkz-tumorkonferenz-2026/2026-04-21/
CATEGORIES:Hautkrebszentrum,Tumorkonferenz
ATTACH;FMTTYPE=image/png:https://www.klinikum-lippe.de/wp-content/uploads/2024/12/Tumorkonferenz.png
END:VEVENT
BEGIN:VEVENT
DTSTART;TZID=Europe/Berlin:20260421T141500
DTEND;TZID=Europe/Berlin:20260421T170000
DTSTAMP:20260421T030827
CREATED:20260113T163210Z
LAST-MODIFIED:20260113T163303Z
UID:10001636-1776780900-1776790800@www.klinikum-lippe.de
SUMMARY:Viszeralonkologisches Zentrum Lippe: Interdisziplinäre Tumorkonferenz
DESCRIPTION:Für alle Tumoren\, die wir in unseren Zentren behandeln\, findet einmal wöchentlich eine Tumorkonferenz statt. Ziel ist es\, dem Patienten eine optimale und individuell angepasste Therapie für seine Erkrankung anzubieten. Einweiser sind herzlich eingeladen\, selber Patienten in diese Konferenz einzubringen und auch teilzunehmen. \nEine rechtzeitige Anmeldung mittels Tumorkonferenzanmeldebogen für die Teilnahme an der nächsten Tumorkonferenz muss bis zum jeweiligen Vortag (bis 12.00 Uhr) an das onkologische Sekretariat gefaxt werden.
URL:https://www.klinikum-lippe.de/veranstaltung/voz-tumorkonferenz-2026/2026-04-21/
CATEGORIES:Tumorkonferenz,Viszeralonkologisches Zentrum
ATTACH;FMTTYPE=image/png:https://www.klinikum-lippe.de/wp-content/uploads/2024/12/Tumorkonferenz.png
END:VEVENT
BEGIN:VEVENT
DTSTART;TZID=Europe/Berlin:20260421T180000
DTEND;TZID=Europe/Berlin:20260421T190000
DTSTAMP:20260421T030827
CREATED:20260331T111052Z
LAST-MODIFIED:20260407T125929Z
UID:10001807-1776794400-1776798000@www.klinikum-lippe.de
SUMMARY:Vortrag Proktologie: Hämorrhoiden und Co.
DESCRIPTION:Im Rahmen dieser Informationsveranstaltung gibt die Universitätsklinik für Allgemein- und Viszeralchirurgie Patienten und Interessierten einen Überblick über häufige proktologische Erkrankungen. Hämorrhoiden und andere Beschwerden im Enddarmbereich sind weit verbreitet – dennoch wird oft nur ungern darüber gesprochen. \nIn diesem Vortrag möchten wir über ein oft tabuisiertes Thema informieren\, aufklären und mögliche Unsicherheiten nehmen. \nSie erfahren \n\nwelche Ursachen hinter den Beschwerden stecken können\,\nwie diese erkannt werden\nund welche modernen Behandlungsmöglichkeiten zur Verfügung stehen.\n\nReferentin ist Dr. Britta Eikötter\, leitende Oberärztin der Universitätsklinik für Allgemein- und Viszeralchirurgie. \nDie Teilnahme ist kostenfrei. Eine Anmeldung ist in der Regel nicht erforderlich.
URL:https://www.klinikum-lippe.de/veranstaltung/vortrag-prokotologie-haemmorrhoiden-und-co/
LOCATION:Campus 9\, Robert-Koch-Straße 2a\, Detmold\, 32756\, Germany
CATEGORIES:Patienten,Universitätsklinik für Allgemein- und Viszeralchirurgie
ATTACH;FMTTYPE=image/jpeg:https://www.klinikum-lippe.de/wp-content/uploads/2026/03/klinikum-lippe_vortrag_proktologie.jpg
END:VEVENT
END:VCALENDAR