BEGIN:VCALENDAR
VERSION:2.0
PRODID:-//Klinikum Lippe - ECPv6.15.17.1//NONSGML v1.0//EN
CALSCALE:GREGORIAN
METHOD:PUBLISH
X-WR-CALNAME:Klinikum Lippe
X-ORIGINAL-URL:https://www.klinikum-lippe.de
X-WR-CALDESC:Veranstaltungen für Klinikum Lippe
REFRESH-INTERVAL;VALUE=DURATION:PT1H
X-Robots-Tag:noindex
X-PUBLISHED-TTL:PT1H
BEGIN:VTIMEZONE
TZID:Europe/Berlin
BEGIN:DAYLIGHT
TZOFFSETFROM:+0100
TZOFFSETTO:+0200
TZNAME:CEST
DTSTART:20250330T010000
END:DAYLIGHT
BEGIN:STANDARD
TZOFFSETFROM:+0200
TZOFFSETTO:+0100
TZNAME:CET
DTSTART:20251026T010000
END:STANDARD
BEGIN:DAYLIGHT
TZOFFSETFROM:+0100
TZOFFSETTO:+0200
TZNAME:CEST
DTSTART:20260329T010000
END:DAYLIGHT
BEGIN:STANDARD
TZOFFSETFROM:+0200
TZOFFSETTO:+0100
TZNAME:CET
DTSTART:20261025T010000
END:STANDARD
BEGIN:DAYLIGHT
TZOFFSETFROM:+0100
TZOFFSETTO:+0200
TZNAME:CEST
DTSTART:20270328T010000
END:DAYLIGHT
BEGIN:STANDARD
TZOFFSETFROM:+0200
TZOFFSETTO:+0100
TZNAME:CET
DTSTART:20271031T010000
END:STANDARD
END:VTIMEZONE
BEGIN:VEVENT
DTSTART;TZID=Europe/Berlin:20260617T144500
DTEND;TZID=Europe/Berlin:20260617T153000
DTSTAMP:20260420T122922
CREATED:20260115T072533Z
LAST-MODIFIED:20260115T072555Z
UID:10001788-1781707500-1781710200@www.klinikum-lippe.de
SUMMARY:Lungenkrebszentrum Lippe: Fortbildungen
DESCRIPTION:Termine für die Fortbildungen für Fachpersonal am Lungenkrebszentrum Lippe \n\n25.03.2026 LKFE2: Dogscan\n17.06.2026 Update Strahlenschutz\n01.07.2026 Palliativmedizin im Lungenkrebszentrum Lippe\n 15.07.2026 Schmerztherapie im Lungenkrebszentrum Lippe\n30.09.2026 S3-Leitlinie BC – Update\n02.12.2026 Bluttransfusionsmanagement\n\nDie Veranstaltungen finden im Seminarraum Radiologie am Standort Lemgo statt.
URL:https://www.klinikum-lippe.de/veranstaltung/lkz-fortbildung-2026/2026-06-17/
LOCATION:Fortbildung – Seminarraum Radiologie\, Rintelner Straße 85\, Lemgo\, 32657\, Deutschland
CATEGORIES:Experten,Lungenkrebszentrum,Pneumologie,Thoraxchirurgie
ATTACH;FMTTYPE=image/png:https://www.klinikum-lippe.de/wp-content/uploads/2022/06/Fortbildung.png
END:VEVENT
BEGIN:VEVENT
DTSTART;TZID=Europe/Berlin:20260701T144500
DTEND;TZID=Europe/Berlin:20260701T153000
DTSTAMP:20260420T122922
CREATED:20260115T072533Z
LAST-MODIFIED:20260115T072555Z
UID:10001789-1782917100-1782919800@www.klinikum-lippe.de
SUMMARY:Lungenkrebszentrum Lippe: Fortbildungen
DESCRIPTION:Termine für die Fortbildungen für Fachpersonal am Lungenkrebszentrum Lippe \n\n25.03.2026 LKFE2: Dogscan\n17.06.2026 Update Strahlenschutz\n01.07.2026 Palliativmedizin im Lungenkrebszentrum Lippe\n 15.07.2026 Schmerztherapie im Lungenkrebszentrum Lippe\n30.09.2026 S3-Leitlinie BC – Update\n02.12.2026 Bluttransfusionsmanagement\n\nDie Veranstaltungen finden im Seminarraum Radiologie am Standort Lemgo statt.
URL:https://www.klinikum-lippe.de/veranstaltung/lkz-fortbildung-2026/2026-07-01/
LOCATION:Fortbildung – Seminarraum Radiologie\, Rintelner Straße 85\, Lemgo\, 32657\, Deutschland
CATEGORIES:Experten,Lungenkrebszentrum,Pneumologie,Thoraxchirurgie
ATTACH;FMTTYPE=image/png:https://www.klinikum-lippe.de/wp-content/uploads/2022/06/Fortbildung.png
END:VEVENT
BEGIN:VEVENT
DTSTART;TZID=Europe/Berlin:20260715T144500
DTEND;TZID=Europe/Berlin:20260715T153000
DTSTAMP:20260420T122922
CREATED:20260115T072533Z
LAST-MODIFIED:20260115T072555Z
UID:10001790-1784126700-1784129400@www.klinikum-lippe.de
SUMMARY:Lungenkrebszentrum Lippe: Fortbildungen
DESCRIPTION:Termine für die Fortbildungen für Fachpersonal am Lungenkrebszentrum Lippe \n\n25.03.2026 LKFE2: Dogscan\n17.06.2026 Update Strahlenschutz\n01.07.2026 Palliativmedizin im Lungenkrebszentrum Lippe\n 15.07.2026 Schmerztherapie im Lungenkrebszentrum Lippe\n30.09.2026 S3-Leitlinie BC – Update\n02.12.2026 Bluttransfusionsmanagement\n\nDie Veranstaltungen finden im Seminarraum Radiologie am Standort Lemgo statt.
URL:https://www.klinikum-lippe.de/veranstaltung/lkz-fortbildung-2026/2026-07-15/
LOCATION:Fortbildung – Seminarraum Radiologie\, Rintelner Straße 85\, Lemgo\, 32657\, Deutschland
CATEGORIES:Experten,Lungenkrebszentrum,Pneumologie,Thoraxchirurgie
ATTACH;FMTTYPE=image/png:https://www.klinikum-lippe.de/wp-content/uploads/2022/06/Fortbildung.png
END:VEVENT
BEGIN:VEVENT
DTSTART;TZID=Europe/Berlin:20260930T144500
DTEND;TZID=Europe/Berlin:20260930T153000
DTSTAMP:20260420T122922
CREATED:20260115T072533Z
LAST-MODIFIED:20260115T072555Z
UID:10001791-1790779500-1790782200@www.klinikum-lippe.de
SUMMARY:Lungenkrebszentrum Lippe: Fortbildungen
DESCRIPTION:Termine für die Fortbildungen für Fachpersonal am Lungenkrebszentrum Lippe \n\n25.03.2026 LKFE2: Dogscan\n17.06.2026 Update Strahlenschutz\n01.07.2026 Palliativmedizin im Lungenkrebszentrum Lippe\n 15.07.2026 Schmerztherapie im Lungenkrebszentrum Lippe\n30.09.2026 S3-Leitlinie BC – Update\n02.12.2026 Bluttransfusionsmanagement\n\nDie Veranstaltungen finden im Seminarraum Radiologie am Standort Lemgo statt.
URL:https://www.klinikum-lippe.de/veranstaltung/lkz-fortbildung-2026/2026-09-30/
LOCATION:Fortbildung – Seminarraum Radiologie\, Rintelner Straße 85\, Lemgo\, 32657\, Deutschland
CATEGORIES:Experten,Lungenkrebszentrum,Pneumologie,Thoraxchirurgie
ATTACH;FMTTYPE=image/png:https://www.klinikum-lippe.de/wp-content/uploads/2022/06/Fortbildung.png
END:VEVENT
BEGIN:VEVENT
DTSTART;TZID=Europe/Berlin:20261202T144500
DTEND;TZID=Europe/Berlin:20261202T153000
DTSTAMP:20260420T122922
CREATED:20260115T072533Z
LAST-MODIFIED:20260115T072555Z
UID:10001792-1796222700-1796225400@www.klinikum-lippe.de
SUMMARY:Lungenkrebszentrum Lippe: Fortbildungen
DESCRIPTION:Termine für die Fortbildungen für Fachpersonal am Lungenkrebszentrum Lippe \n\n25.03.2026 LKFE2: Dogscan\n17.06.2026 Update Strahlenschutz\n01.07.2026 Palliativmedizin im Lungenkrebszentrum Lippe\n 15.07.2026 Schmerztherapie im Lungenkrebszentrum Lippe\n30.09.2026 S3-Leitlinie BC – Update\n02.12.2026 Bluttransfusionsmanagement\n\nDie Veranstaltungen finden im Seminarraum Radiologie am Standort Lemgo statt.
URL:https://www.klinikum-lippe.de/veranstaltung/lkz-fortbildung-2026/2026-12-02/
LOCATION:Fortbildung – Seminarraum Radiologie\, Rintelner Straße 85\, Lemgo\, 32657\, Deutschland
CATEGORIES:Experten,Lungenkrebszentrum,Pneumologie,Thoraxchirurgie
ATTACH;FMTTYPE=image/png:https://www.klinikum-lippe.de/wp-content/uploads/2022/06/Fortbildung.png
END:VEVENT
END:VCALENDAR