BEGIN:VCALENDAR
VERSION:2.0
PRODID:-//Klinikum Lippe - ECPv6.15.17.1//NONSGML v1.0//EN
CALSCALE:GREGORIAN
METHOD:PUBLISH
X-WR-CALNAME:Klinikum Lippe
X-ORIGINAL-URL:https://www.klinikum-lippe.de
X-WR-CALDESC:Veranstaltungen für Klinikum Lippe
REFRESH-INTERVAL;VALUE=DURATION:PT1H
X-Robots-Tag:noindex
X-PUBLISHED-TTL:PT1H
BEGIN:VTIMEZONE
TZID:Europe/Berlin
BEGIN:DAYLIGHT
TZOFFSETFROM:+0100
TZOFFSETTO:+0200
TZNAME:CEST
DTSTART:20240331T010000
END:DAYLIGHT
BEGIN:STANDARD
TZOFFSETFROM:+0200
TZOFFSETTO:+0100
TZNAME:CET
DTSTART:20241027T010000
END:STANDARD
BEGIN:DAYLIGHT
TZOFFSETFROM:+0100
TZOFFSETTO:+0200
TZNAME:CEST
DTSTART:20250330T010000
END:DAYLIGHT
BEGIN:STANDARD
TZOFFSETFROM:+0200
TZOFFSETTO:+0100
TZNAME:CET
DTSTART:20251026T010000
END:STANDARD
BEGIN:DAYLIGHT
TZOFFSETFROM:+0100
TZOFFSETTO:+0200
TZNAME:CEST
DTSTART:20260329T010000
END:DAYLIGHT
BEGIN:STANDARD
TZOFFSETFROM:+0200
TZOFFSETTO:+0100
TZNAME:CET
DTSTART:20261025T010000
END:STANDARD
END:VTIMEZONE
BEGIN:VEVENT
DTSTART;TZID=Europe/Berlin:20251027T183000
DTEND;TZID=Europe/Berlin:20251027T200000
DTSTAMP:20260420T013820
CREATED:20250829T082558Z
LAST-MODIFIED:20250829T082657Z
UID:10001033-1761589800-1761595200@www.klinikum-lippe.de
SUMMARY:Was tun\, wenn der Beckenboden in Schieflage gerät und Blase & Darm außer Kontrolle sind?
DESCRIPTION:Inkontinenz bringt viele unangenehme Symptome mit sich: Häufiger\, plötzlicher Harndrang\, unkontrollierter Urinverlust beim Lachen oder Niesen\, nächtliches Wasserlassen und das Gefühl\, nie weit von einer Toilette entfernt sein zu können. Hinzu kommen Sorgen um Geruch oder nasse Kleidung\, was bei vielen Frauen zu Unsicherheit\, Scham und sozialem Rückzug führen kann. Auch körperliche Beschwerden wie zum Beispiel Hautreizungen können auftreten. Die Lebensqualität wird dadurch oft stark eingeschränkt\, sowohl im Alltag als auch im Berufs- und Sozialleben. \nSie sind damit nicht allein. Viele Frauen haben die gleichen Probleme. Die positive Nachricht ist: Es muss so nicht bleiben. Der Vortrag informiert Sie über Ursachen von Deszensus und Inkontinenz und die Therapiemöglichkeiten. \nReferenten: \n\nDr. Manuel Schweiger\, Oberarzt der Universitätsklinik für Frauenheilkunde und Geburtshilfe\nLarissa Jansen\, Oberärztin der Universitätsklinik für Frauenheilkunde und Geburtshilfe\n\nAnmeldung: \nBitte melden Sie sich bei der VHS Bad Salzuflen an. Der Eintritt ist frei. \nDies ist eine Veranstaltung im Rahmen der Aktion „SalzuflerFrauenPower„.
URL:https://www.klinikum-lippe.de/veranstaltung/was-tun-wenn-der-beckenboden-in-schieflage-geraet-und-blase-darm-ausser-kontrolle-sind/
LOCATION:Volkshochschule Bad Salzuflen\, Hermannstraße 32\, Bad Salzuflen\, 32105
CATEGORIES:Kontinenz- und Beckenbodenzentrum Lippe,Patienten,Universitätsklinik für Frauenheilkunde und Geburtshilfe
ATTACH;FMTTYPE=image/png:https://www.klinikum-lippe.de/wp-content/uploads/2023/05/20230620_Expertentelefon_Inkontinenz_web-710×321.png
END:VEVENT
END:VCALENDAR