BEGIN:VCALENDAR
VERSION:2.0
PRODID:-//Klinikum Lippe - ECPv6.15.17.1//NONSGML v1.0//EN
CALSCALE:GREGORIAN
METHOD:PUBLISH
X-ORIGINAL-URL:https://www.klinikum-lippe.de
X-WR-CALDESC:Veranstaltungen für Klinikum Lippe
REFRESH-INTERVAL;VALUE=DURATION:PT1H
X-Robots-Tag:noindex
X-PUBLISHED-TTL:PT1H
BEGIN:VTIMEZONE
TZID:Europe/Berlin
BEGIN:DAYLIGHT
TZOFFSETFROM:+0100
TZOFFSETTO:+0200
TZNAME:CEST
DTSTART:20220327T010000
END:DAYLIGHT
BEGIN:STANDARD
TZOFFSETFROM:+0200
TZOFFSETTO:+0100
TZNAME:CET
DTSTART:20221030T010000
END:STANDARD
BEGIN:DAYLIGHT
TZOFFSETFROM:+0100
TZOFFSETTO:+0200
TZNAME:CEST
DTSTART:20230326T010000
END:DAYLIGHT
BEGIN:STANDARD
TZOFFSETFROM:+0200
TZOFFSETTO:+0100
TZNAME:CET
DTSTART:20231029T010000
END:STANDARD
BEGIN:DAYLIGHT
TZOFFSETFROM:+0100
TZOFFSETTO:+0200
TZNAME:CEST
DTSTART:20240331T010000
END:DAYLIGHT
BEGIN:STANDARD
TZOFFSETFROM:+0200
TZOFFSETTO:+0100
TZNAME:CET
DTSTART:20241027T010000
END:STANDARD
BEGIN:DAYLIGHT
TZOFFSETFROM:+0100
TZOFFSETTO:+0200
TZNAME:CEST
DTSTART:20250330T010000
END:DAYLIGHT
BEGIN:STANDARD
TZOFFSETFROM:+0200
TZOFFSETTO:+0100
TZNAME:CET
DTSTART:20251026T010000
END:STANDARD
END:VTIMEZONE
BEGIN:VEVENT
DTSTART;TZID=Europe/Berlin:20240722T140000
DTEND;TZID=Europe/Berlin:20240722T160000
DTSTAMP:20260420T034102
CREATED:20240704T064217Z
LAST-MODIFIED:20240704T064217Z
UID:10000473-1721656800-1721664000@www.klinikum-lippe.de
SUMMARY:Qualitätszirkel Brustzentrum Lippe
DESCRIPTION:Die Qualität der Patientenversorgung spielt im Brustzentrum Lippe eine wichtige Rolle. Im regelmäßigen Qualitätszirkel tauschen wir uns deshalb interdisziplinär aus und stellen unsere Strukturen kritisch auf den Prüfstand. \nUm Anmeldung über das Sekretariat der Universitätsklinik für Frauenheilkunde und Geburtshilfe wird gebeten.
URL:https://www.klinikum-lippe.de/veranstaltung/qualitaetszirkel-brustzentrum-lippe/
LOCATION:Universitätsklinik für Frauenheilkunde und Geburtshilfe – Besprechungsraum\, Röntgenstraße 18\, Detmold\, 32756
CATEGORIES:Brustzentrum,Experten,Frauenheilkunde und Geburtshilfe
ATTACH;FMTTYPE=image/png:https://www.klinikum-lippe.de/wp-content/uploads/2023/02/Q-Zirkel.png
ORGANIZER;CN="Universit%C3%A4tsklinik fu%CC%88r Frauenheilkunde und Geburtshilfe":MAILTO:frauenklinik@klinikum-lippe.de
END:VEVENT
BEGIN:VEVENT
DTSTART;TZID=Europe/Berlin:20240710T173000
DTEND;TZID=Europe/Berlin:20240710T213000
DTSTAMP:20260420T034102
CREATED:20240606T091515Z
LAST-MODIFIED:20240606T091515Z
UID:10000468-1720632600-1720647000@www.klinikum-lippe.de
SUMMARY:GYNONCO NOW 2024: Immunonkologie in der Gynäkologie und Senologie
DESCRIPTION:Sehr geehrte Kolleginnen und Kollegen\, \nherzlich laden wir Sie zur Veranstaltung „GYNONCO NOW 2024 – Fokusthema: lmmunonkologie in der Gynäkoonkologie und Senologie“ am 10. Juli 2024 ein. Nach einem faktenorientierten Impulsvortrag diskutieren Sie vor Ort (im Satelliten) mit Ihren Kolleginnen und Kollegen spannende Kasuistiken. Der praxisrelevante Austausch unter Kolleginnen und Kollegen steht bei diesem Ansatz im Vordergrund. Gleichen Sie die Ergebnisse Ihres Satelliten mit denen der Experten im Hauptstudio und der anderen Satelliten ab. Die Satelliten sind über ganz Deutschland und Österreich verteilt. Freuen Sie sich auf ein kurzweiliges\, praxisnahes\, innovatives Veranstaltungskonzept. \nHaben wir Sie neugierig gemacht? Melden Sie sich an! \nFür die Veranstaltung wurden CME-Punkte bei der zuständigen Landesärztekammer beantragt. \nIhr Gastgeber im Hub\nProf. Dr. med\, Christian Jackisch\nÄrztlicher Direktor und Geschäftsführer\, Geschäftsführung KEM I Evang. Kliniken Essen-Mitte gGmbH \nIhre Moderatorin in Detmold\nUniv.-Prof. Dr. med. Beyhan Ataseven\nDirektorin der Universitätsklinik für Frauenheilkunde und Geburtshilfe\, Klinikum Lippe\, Universitätsklinikum OWL \nIhre Referenten und Diskutanten\nUniv.-Prof. Dr. med. Tjoung-Won Park-Simon\nKlinik für Frauenheilkunde/MHH \nPriv.-Doz. Dr. med. Oleg Gluz\nEv. Krankenhaus Bethesda Mönchengladbach \nProf. Dr. med. Christian Jackisch\nEvang. Kliniken Essen-Mitte \nProgramm\n \nVeranstalter\nMSD Sharp & Dohme GmbH\nLevelingstraße 4a\, 81673 München\nwww.msd.de
URL:https://www.klinikum-lippe.de/veranstaltung/gynonconow2024/
LOCATION:Campus 9\, Robert-Koch-Straße 2a\, Detmold\, 32756\, Germany
CATEGORIES:Experten,Frauenheilkunde und Geburtshilfe,Gynäkologisches Krebszentrum
ATTACH;FMTTYPE=image/png:https://www.klinikum-lippe.de/wp-content/uploads/2024/06/Bildschirmfoto-2024-06-06-um-11.06.49.png
ORGANIZER;CN="Universit%C3%A4tsklinik fu%CC%88r Frauenheilkunde und Geburtshilfe":MAILTO:frauenklinik@klinikum-lippe.de
END:VEVENT
BEGIN:VEVENT
DTSTART;TZID=Europe/Berlin:20240629T080000
DTEND;TZID=Europe/Berlin:20240629T150000
DTSTAMP:20260420T034102
CREATED:20240606T085208Z
LAST-MODIFIED:20240606T085208Z
UID:10000467-1719648000-1719673200@www.klinikum-lippe.de
SUMMARY:Sommersymposium der Universitätsklinik für Frauenheilkunde und Geburtshilfe
DESCRIPTION:Wissenschaftliche Leitung\nUniv.-Prof. Dr. Beyhan Ataseven \nProgramm\n \nDiese Veranstaltung wird durch Sponsoring unterstützt. Die Sponsoren sind im Flyer gelistet.
URL:https://www.klinikum-lippe.de/veranstaltung/sommersymposium-ufk-2024/
LOCATION:Campus 9\, Robert-Koch-Straße 2a\, Detmold\, 32756\, Germany
CATEGORIES:Experten,Frauenheilkunde und Geburtshilfe,Gynäkologisches Krebszentrum
ATTACH;FMTTYPE=image/png:https://www.klinikum-lippe.de/wp-content/uploads/2024/06/20240629_Sommersymposium_UFK.png
ORGANIZER;CN="Universit%C3%A4tsklinik fu%CC%88r Frauenheilkunde und Geburtshilfe":MAILTO:frauenklinik@klinikum-lippe.de
END:VEVENT
BEGIN:VEVENT
DTSTART;TZID=Europe/Berlin:20240515T143000
DTEND;TZID=Europe/Berlin:20240515T180000
DTSTAMP:20260420T034102
CREATED:20240408T062009Z
LAST-MODIFIED:20240408T062009Z
UID:10000455-1715783400-1715796000@www.klinikum-lippe.de
SUMMARY:Geburtshilfliche Fortbildung für Medizinische Fachangestellte
DESCRIPTION:Programm\n14:30 Uhr Get together \n14:45 Uhr Das Baby wächst – Mutterschaftsvorsorge I Dr. Corinna Bryan \n15:30 Uhr Das antenatale CTG I Susann Grabsch \n16:00 Uhr Kaffeepause \n16:30 Uhr Das Baby kommt bald – Geburtsbeginn und Betreuung unter der Geburt I Dr. Corinna Bryan und Susann Grabsch \n17:15 Uhr Diskussion \n17:30 Uhr Besichtigung Kreißsaal und Wochenbettstation \nca. 18:00 Uhr Verabschiedung I Dr. med. Corinna Bryan und Susann Grabsch \nAnmeldung\nBitte per E-Mail bis zum 8. Mai 2024. \nReferentinnen\nDr. med. Corinna Bryan\, Chefärztin Geburtshilfe – DEGUM II\, Universitätsklinik für Frauenheilkunde und Geburtshilfe \nSusann Grabsch\, Leitende Hebamme\, Klinikum Lippe \nWissenschaftliche Leitung und Moderation\nDr. med. Corinna Bryan\, Chefärztin Geburtshilfe – DEGUM II\, Universitätsklinik für Frauenheilkunde und Geburtshilfe \nVeranstalter\nUniversitätsklinik für Frauenheilkunde und Geburtshilfe\, Klinikum Lippe \nKontakt\nDr. med. Corinna Bryan\ncorinna.bryan@klinikum-lippe.de\nTelefon 05231 72-3141\nFax 05231 72-3142 \nTeilnahmegebühr\nDie Fortbildung ist kostenlos. \nZertifizierung\nBei der Ärztekammer Westfalen-Lippe beantragt.
URL:https://www.klinikum-lippe.de/veranstaltung/geburtshilfliche-fortbildung-mfa/
LOCATION:Medicum Detmold\, Konferenzräume im 4. Obergeschoss\, Röntgenstraße 16\, Detmold\, 32756
CATEGORIES:Experten,Frauenheilkunde und Geburtshilfe
ATTACH;FMTTYPE=image/png:https://www.klinikum-lippe.de/wp-content/uploads/2022/06/Fortbildung.png
ORGANIZER;CN="Universit%C3%A4tsklinik fu%CC%88r Frauenheilkunde und Geburtshilfe":MAILTO:frauenklinik@klinikum-lippe.de
END:VEVENT
BEGIN:VEVENT
DTSTART;TZID=Europe/Berlin:20240430T180000
DTEND;TZID=Europe/Berlin:20240430T193000
DTSTAMP:20260420T034102
CREATED:20240418T084006Z
LAST-MODIFIED:20240723T095042Z
UID:10000456-1714500000-1714505400@www.klinikum-lippe.de
SUMMARY:Elternabend in arabischer Sprache
DESCRIPTION:Wir laden Sie herzlich ein zum ersten Elternabend in arabischer Sprache am Klinikstandort Detmold am Dienstag\, 30.04.2024\, ab 18 Uhr. \nhttps://www.klinikum-lippe.de/wp-content/uploads/2024/07/Kreisssaalfuehrung_Arabisch.mp4\nChefärztin Dr. Corinna Bryan und Assistenzärztin Haneen Abdelrahman informieren an diesem Abend über viele wichtige Themen rund um Schwangerschaft\, Geburt und Wochenbett. Sie haben an diesem Abend auch die Möglichkeit\, unseren Kreißsaal zu besuchen. Lernen Sie unsere Hebammen\, unser Perinatalzentrum Level 1 sowie unser Team kennen. \nDie Veranstaltung findet statt im Medicum Detmold\, Röntgenstraße 16\, direkt neben dem Klinikum. \nWir freuen uns auf Sie! \nDie Universitätsklinik für Frauenheilkunde und Geburtshilfe ist offizieller Empowerment-Partner des Projekts „Empowerment für Diversität – Allianz für Chancengleichheit in der Gesundheitsversorgung“.
URL:https://www.klinikum-lippe.de/veranstaltung/elternabend-arabisch/
LOCATION:Medicum Detmold\, Konferenzräume im 4. Obergeschoss\, Röntgenstraße 16\, Detmold\, 32756
CATEGORIES:Elternabend,Empowerment,Kreißsaalführung
ATTACH;FMTTYPE=image/png:https://www.klinikum-lippe.de/wp-content/uploads/2024/04/Kreisssaalfuehrung_Arabisch-710-x-321-px.png
ORGANIZER;CN="Universit%C3%A4tsklinik fu%CC%88r Frauenheilkunde und Geburtshilfe":MAILTO:frauenklinik@klinikum-lippe.de
END:VEVENT
BEGIN:VEVENT
DTSTART;TZID=Europe/Berlin:20240418T180000
DTEND;TZID=Europe/Berlin:20240418T213000
DTSTAMP:20260420T034102
CREATED:20240205T095438Z
LAST-MODIFIED:20240205T095917Z
UID:10000438-1713463200-1713475800@www.klinikum-lippe.de
SUMMARY:Fortbildung: Gynäkologische Onkologie inkl. Highlights von den internationalen Kongressen - ESGO und SGO 2024
DESCRIPTION:Die Universitätsklinik für Frauenheilkunde und Geburtshilfe setzt die Fortbildungsreihe auch in diesem Jahr in gewohnter Aktualität fort. \nUniv.-Prof. Dr. Beyhan Ataseven und ihr Team freuen sich\, Kolleginnen und Kollegen zu einem Update zur Gynäkologischen Onkologie einzuladen. Bereits 2023 und auch im Jahre 2024 wurden auf internationalen Krebs-Kongressen praxisrelevante Studienergebnisse zur Behandlung von gynäkologischen Malignomen (insbesondere beim Endometrium- und Zervixkarzinom) vorgestellt. Diese Ergebnisse sollen interdisziplinär diskutiert werden. \nProgramm\n17.30 Uhr Get together \n18.00 Uhr Begrüßung \nNews aus der UFK und Praxis I Ataseven\, Kob \n18.15 Uhr Update Zervixkarzinom\nFallkasuistik I Schweiger\nPerspektive der Strahlentherapie I Lautenschläger\nPerspektive der Systemtherapie I Soergel\n2024 Kongress-Highlights I Ataseven \n19.05 Uhr Update Endometriumkarzinom\nFallkasuistik I Lila\nRevolution of evolution! Warum wird es so komplex? I Ataseven\nTherapie des fortgeschrittenen/metastasierten EC I Pauly\n2024 Kongress-Highlights I Ataseven \n19.55 Uhr Update Ovarialkarzinom und Kongress-Highlights \n20.25 Uhr Zusammenfassung \n20.30 Uhr Gemeinsamer Austausch I Imbiss \nReferenten\nProf. Beyhan Ataseven – Direktorin\nUniversitätsklinik für Frauenheilkunde und Geburtshilfe\, Klinikum Lippe \nDr. Nina Pauly; Dr. Schweiger; Hr. Lila – Oberärzte\nUniversitätsklinik für Frauenheilkunde und Geburtshilfe\, Klinikum Lippe \nDr. Dr. Friedrich Stefan Lautenschläger – Leitender Oberarzt\nKlinik für Strahlentherapie\, Klinikum Lippe \nUniv.-Prof. Dr. Philipp Soergel – Direktor\nUniversitätsklinik für Frauenheilkunde und Geburtshilfe\, Johannes Wesling Klinikum Minden \nWissenschaftliche Leitung und Moderation\nUniv.-Prof. Dr. Beyhan Ataseven \nOrganisatorisches\nVeranstalter\nUniversitätsklinik für Frauenheilkunde und Geburtshilfe\, Klinikum Lippe \nKontakt & Anmeldung\nSekretariat von Univ.-Prof. Dr. Beyhan Ataseven\nE-Mail frauenklinik@klinikum-lippe.de \nTeilnahmegebühr\nDie Fortbildung ist kostenlos \nZertifizierung\nCME-Punkte sind bei der Ärztekammer Westfalen-Lippe beantragt. \n 
URL:https://www.klinikum-lippe.de/veranstaltung/fortbildung-gynaekologische-onkologie-2024/
LOCATION:Campus 9\, Robert-Koch-Straße 2a\, Detmold\, 32756\, Germany
CATEGORIES:Frauenheilkunde und Geburtshilfe
ATTACH;FMTTYPE=image/png:https://www.klinikum-lippe.de/wp-content/uploads/2022/06/Fortbildung.png
ORGANIZER;CN="Universit%C3%A4tsklinik fu%CC%88r Frauenheilkunde und Geburtshilfe":MAILTO:frauenklinik@klinikum-lippe.de
END:VEVENT
BEGIN:VEVENT
DTSTART;TZID=Europe/Berlin:20240409T180000
DTEND;TZID=Europe/Berlin:20240409T210000
DTSTAMP:20260420T034102
CREATED:20240314T100019Z
LAST-MODIFIED:20240318T095926Z
UID:10000452-1712685600-1712696400@www.klinikum-lippe.de
SUMMARY:Chancengleichheit im Gesundheitswesen: Realität und Vision
DESCRIPTION:Wie ein Mensch aussieht\, woher der Mensch kommt und welche Muttersprache gesprochen wird\, spielt leider immer noch eine große Rolle darin wie\, wann und ob man gut im Gesundheitswesen versorgt wird. Zugang zu Gesundheitsangeboten wie Krebsvorsorge\, Mutterschaftsvorsorge und Ansprüchen innerhalb des Gesundheitswesen sind durch Sprachbarrieren und Unkenntnis des medizinischen Versorgungssystems deutlich erschwert. Aber auch für Menschen\, die sonst nicht in die gesellschaftliche Norm passen oder durch Behinderung etablierte Strukturen vor Herausforderungen stellen\, fallen schnell Angebote weg\, die eigentlich für Alle gedacht waren. Auch spielt diskriminierendes Verhalten\, wie z.B. Rassismus oder mangelnde Rücksichtnahme auf kulturelle Hintergründe und Geschichten sowie spezielle Bedürfnisse\, eine entscheidende Rolle. \nIm Rahmen des durch die Stiftung Mercator geförderten und an der Charité-Universitätsmedizin Berlin angesiedelten Projekts „Empowerment für Diversität – Allianz für Chancengleichheit in der Gesundheitsversorgung“ werden Kompetenzen und Strukturen für Diversitätsgerechtigkeit gestärkt und Diskriminierungen beim Zugang und in der medizinischen Versorgung abgebaut. Dabei sollen zum einen strukturelle Probleme wie Sprachbarrieren und fehlende Angebote erkannt und beseitigt werden und zum anderen auch diskriminierendes Verhalten abgebaut und Diversitätskompetenzen innerhalb des Teams wertgeschätzt und genutzt und gefördert werden. \nMit unserer ersten Veranstaltung wollen wir den Beginn eines zweijährigen Prozesses an der Frauenklinik initiieren. In den zwei Jahren werden sowohl nach Innen als auch nach Außen wirksame Entwicklungen angestoßen\, um die oben genannten Ziele an der Universitätsklinik für Frauenheilkunde und Geburtshilfe umzusetzen. \nWir freuen uns auf Sie. \nDie Empowerment Partner der Universitätsklinik für Frauenheilkunde und Geburtshilfe \nProgramm\n18:00 Uhr come together \n18:10 Uhr Begrüßung\nProf. Dr. med. Beyhan Ataseven | Klinikdirektorin\nDr. med. Nina Pauly | Koordinatorin Empowerment \n18:15 Uhr Vorstellung des Projektes „Empowerment für Diversität“\nProf. Dr. Theda Borde | Projektleitung „Empowerment für Diversität“\nDr. med. Nina Pauly | Koordinatorin Empowerment \n18:20 Uhr Podiumsdiskussion \n19:30 Uhr Austausch und Markt der Möglichkeiten: lokale Initiativen stellen sich an Ständen vor \nTeilnehmende an der Podiumsdiskussion\nProf. Dr. med. Oliver Razum\, MSc\nDekan der Fakultät für Gesundheitswissenschaften\, Universität Bielefeld \nProf. Dr. med. Tanja Sappok\nProfessur für Medizin für Menschen mit Behinderung\, Schwerpunkt psychische Gesundheit \nDr. med. Solmaz Golsabahi-Broclawski\nFachärztin für Psychiatrie und Psychotherapie \nVertreterin des MediNetz Bielefeld \nVeranstaltungsflyer als PDF
URL:https://www.klinikum-lippe.de/veranstaltung/chancengleichheit-im-gesundheitswesen/
LOCATION:Campus 9\, Robert-Koch-Straße 2a\, Detmold\, 32756\, Germany
ATTACH;FMTTYPE=image/png:https://www.klinikum-lippe.de/wp-content/uploads/2024/03/2024_Fortbildungen_LinkedIn-710-x-321-px.png
ORGANIZER;CN="Universit%C3%A4tsklinik fu%CC%88r Frauenheilkunde und Geburtshilfe":MAILTO:frauenklinik@klinikum-lippe.de
END:VEVENT
BEGIN:VEVENT
DTSTART;TZID=Europe/Berlin:20240313T180000
DTEND;TZID=Europe/Berlin:20240313T210000
DTSTAMP:20260420T034102
CREATED:20240226T093646Z
LAST-MODIFIED:20240226T093646Z
UID:10000445-1710352800-1710363600@www.klinikum-lippe.de
SUMMARY:Interdisziplinäre Fortbildung: Wissen lässt uns besser helfen
DESCRIPTION:Liebe Kolleginnen\, liebe Kollegen\, \nFortbildung ist zentrales Thema\, welches der Kommunikation zwischen Klinik und Zuweisern die Möglichkeit bietet diese Partnerschaft auf eine Ebene zu heben. \nVor etwas mehr als 40 Jahren hat Harald zur Hausen (1993) gezeigt das HPV ein Papillomavirus ist\, das unterschiedliche Karzinome auslöst\, wofür er 2008 mit dem Nachweis als Auslöser des Zervixkarzinoms den Nobelpreis erhielt. 2006 resultierte der erste von der FDA zugelassene Impfstoff; 2020 als Vakzinierung gegen Zervix-\, Scheiden-\, Vulva-\, Anal-\, Penis-\, Mundhöhlen-/Kehlkopfkrebs. \nDarüber hinaus sind Tumormarker ein elementarer Teil in der Diagnostik geworden and stellen einen Eckpfeiler für den modernen Therapieverlauf dar. \nFür alle aktuellen Systemtherapien ist das frühzeitige Erkennen möglicher Nebenwirkungen Garant Komplikationen zu minimieren und die LQ zu erhalten bzw. binnen kürzester Zeit wieder herzustellen. \nWir freuen uns auf einen spannenden Mittwochabend. \nIhre Teams der Universitätskliniken für Frauenheilkunde und Geburtshilfe & Urologie des UK-OWL- Campus Klinikum Lippe \nProgramm\n\nHPV-Impfung: Alle\, aber früh\nTumormarker: Sinn und Unsinn im Rahmen der Vorsorge beziehungsweise Nachsorge\nNebenwirkung der modernen medikamentösen Tumortherapie: Erkennen und behandeln\n\nAnschließend freuen wir uns auf einen kollegialen Gedankenaustausch bei einem Imbiss und Getränken. \nCME-Punkte sind beantragt. \nDie Fortbildung wird durch Industriepartner ermöglicht. \nVeranstalter und Leitung\n\nUniv.- Prof. Dr. Beyhan Ataseven\, Direktorin der Universitätsklinik für Frauenheilkunde und Geburtshilfe\nUniv. Prof. Dr. Karl-Dietrich Sievert\, Direktor der Universitätsklinik für Urologie
URL:https://www.klinikum-lippe.de/veranstaltung/interdisziplinaere-fortbildung-wissen-laesst-uns-besser-helfen/
LOCATION:Loge der Sparkasse Paderborn-Detmold-Höxter\, Paulinenstraße 34\, Detmold\, 32756
CATEGORIES:Experten,Frauenheilkunde und Geburtshilfe,Urologie
ATTACH;FMTTYPE=image/png:https://www.klinikum-lippe.de/wp-content/uploads/2022/06/Fortbildung.png
ORGANIZER;CN="Universit%C3%A4tsklinik fu%CC%88r Frauenheilkunde und Geburtshilfe":MAILTO:frauenklinik@klinikum-lippe.de
END:VEVENT
BEGIN:VEVENT
DTSTART;TZID=Europe/Berlin:20240214T170000
DTEND;TZID=Europe/Berlin:20240214T203000
DTSTAMP:20260420T034102
CREATED:20240123T085025Z
LAST-MODIFIED:20240123T085025Z
UID:10000403-1707930000-1707942600@www.klinikum-lippe.de
SUMMARY:Fortbildung: Pränataldiagnostik
DESCRIPTION:Programm\n17.00 Uhr Get together \n17.15 Uhr Grußwort\nProf. Dr. med. Beyhan Ataseven \n17.20 Uhr Diagnostik und Therapie bei maternaler CMV-Infektion\nProf. Dr. med. Annegret Geipel \n17.50 Uhr Diskussion \n18.00 Uhr Fetale urogenitale Fehlbildungen\nProf. Dr. med. Annegret Geipel \n18.30 Uhr Diskussion \n18.40 Uhr Fingerfood und kollegialer Austausch \n19.10 Uhr Interessante Fälle aus der Klinik: Fetale Fehlbildungen\nDr. med. Corinna Bryan \n19.40 Uhr Diskussion \n19.55 Uhr NIPT-Update… und auf was kommt es an?\nProf. Dr. med. Annegret Geipel \n20.25 Uhr Diskussion \nReferenten\nProf. Dr. med. Beyhan Ataseven\nDirektorin\, Universitätsklinik für Frauenheilkunde und Geburtshilfe\, Klinikum Lippe \nProf. Dr. med. Annegret Geipel\nDEGUM III\, Universitätsfrauenklinik Bonn \nDr. med. Corinna Bryan\nChefärztin Geburtshilfe und Pränataldiagnostik\, DEGUM II\, Universitätsklinik für Frauenheilkunde und Geburtshilfe\, Klinikum Lippe \nPriv.-Doz. Dr. med. Marc Mendler\nChefarzt\, Klinik für Kinder- und Jugendmedizin\, Klinikum Lippe \nWissenschaftliche Leitung und Moderation\nDr. med. Corinna Bryan \nOrganisatorisches\nVeranstalter\nUniversitätsklinik für Frauenheilkunde und Geburtshilfe\, Klinikum Lippe \nKontakt & Anmeldung\nDr. med. Corinna Bryan\nE-Mail corinna.bryan@klinikum-lippe.de \nTeilnahmegebühr\nDie Fortbildung ist kostenlos \nZertifizierung\nCME-Punkte sind bei der Ärztekammer Westfalen-Lippe beantragt. \nSponsoring\nWir bedanken uns für die Unterstützung durch GE Healthcare und ITF Pharma.
URL:https://www.klinikum-lippe.de/veranstaltung/fortbildung-praenataldiagnostik/
LOCATION:Campus 9\, Robert-Koch-Straße 2a\, Detmold\, 32756\, Germany
CATEGORIES:Experten,Frauenheilkunde und Geburtshilfe
ATTACH;FMTTYPE=image/png:https://www.klinikum-lippe.de/wp-content/uploads/2022/06/Fortbildung.png
ORGANIZER;CN="Universit%C3%A4tsklinik fu%CC%88r Frauenheilkunde und Geburtshilfe":MAILTO:frauenklinik@klinikum-lippe.de
END:VEVENT
BEGIN:VEVENT
DTSTART;TZID=Europe/Berlin:20240117T180000
DTEND;TZID=Europe/Berlin:20240117T203000
DTSTAMP:20260420T034102
CREATED:20231130T100751Z
LAST-MODIFIED:20240112T081425Z
UID:10000245-1705514400-1705523400@www.klinikum-lippe.de
SUMMARY:Diagnose Brustkrebs - und jetzt?
DESCRIPTION:Liebe Patientin\, lieber Patient\, liebe Angehörige\, \nmit der Diagnose„ Brustkrebs“ wird von heute auf morgen bei den Betroffenen ein wahres Wechselbad der Gefühle ausgelöst: Auf der einen Seite die Angst vor der Zukunft mit der Erkrankung\, auf der anderen Seite die Hoffnung auf Hilfe durch medizinische Behandlung. \nAuch Angehörige leiden unter dieser schwierigen Situation und werden damit zu „Mit-Betroffenen“. Sie bekommen dieses „Hin- und Hergerissensein“ hautnah mit – hinzu kommt die persönliche Unsicherheit\, wie man mit so einer Diagnose umgehen kann. \nUnsere Initiativen möchten Patientinnen und Angehörige beim Umgang mit der Erkrankung unterstützen und dabei helfen\, nach vorne zu schauen. \n„Aktion Rückenwind unterwegs: Hilfreiche Informationen für Patient:innen & Angehörige“ ist eine Initiative von Lilly. \nIm ersten Teil der Veranstaltung informieren Expert:innen über die medizinischen Hintergründe und geben Hilfestellungen für den Alltag. Die „Gesprächsinseln“ laden dazu ein\, individuelle Fragen an die Expert:innen der Klinik zu stellen und sich untereinander auszutauschen. \n18.00 bis 19.30 Uhr: Vortragsrunde\nBegrüßung und Einleitung\nProf. Ataseven \nBrustkrebs – die wichtigsten W-Fragen: Was bedeutet Brustkrebs? Wie häufig ist Brustkrebs? Welches sind die Risikofaktoren? Welche Symptome?\nProf. Ataseven \nMammographie-Screening – Sinn oder Unsinn\nDr. Tennstedt \nInnovative radiologische Abklärungsmöglichkeiten bei Brustkrebs – ist der Horizont erreicht?\nProf. Eisenblätter \nDiagnose Brustkrebs: Was nun? Welche Schritte sind zu optimalen Abklärung erforderlich? Welche Therapiesäulen gibt es?\nDr. Pauly \nDiagnose Brustkrebs – wie muss/kann operiert werden?\nDr. Opitz \nWas ist eine Breast Care Nurse (BCN)?\nSimone Sasse/Claudia Kaufmann \nLeben mit Brustkrebs – was tun\, wenn die Seele brennt?\nDr. med. Ahmad Bransi \nImmuntherapie für alle Brustkrebs-Patientinnen?\nProf. Hartmann \nStrahlentherapie – welche Nutzen bringt sie?\nDr. Dr. Friedrich Stefan Lautenschläger \nZusammenfassung\nProf. Ataseven \nIm Anschluss\nGesprächsinseln mit Expert:innen\, Patient:innen und Angehörige im Gespräch \nInfopark: Regionale Anlaufstellen\, u. a. Ernährungsberatung \nVeranstaltungsflyer mit allen Informationen
URL:https://www.klinikum-lippe.de/veranstaltung/diagnose-brustkrebs-und-jetzt/
LOCATION:Brustzentrum Lippe\, Robert-Koch-Straße 2\, Detmold\, 32756
CATEGORIES:Universitätsklinik für Frauenheilkunde und Geburtshilfe
ATTACH;FMTTYPE=image/png:https://www.klinikum-lippe.de/wp-content/uploads/2023/11/Bildschirmfoto-2023-11-30-um-11.45.22.png
ORGANIZER;CN="Universit%C3%A4tsklinik fu%CC%88r Frauenheilkunde und Geburtshilfe":MAILTO:frauenklinik@klinikum-lippe.de
END:VEVENT
BEGIN:VEVENT
DTSTART;TZID=Europe/Berlin:20230823T170000
DTEND;TZID=Europe/Berlin:20230823T200000
DTSTAMP:20260420T034102
CREATED:20230713T121506Z
LAST-MODIFIED:20230713T121542Z
UID:10000211-1692810000-1692820800@www.klinikum-lippe.de
SUMMARY:Fortbildung: GYN-(UP)DATE 2023
DESCRIPTION:Programm\n\n17.00 Uhr\nBegrüßung & Teamvorstellung\n17.15 Uhr\nHot Topic: Ovarialkarzinom\n17.35 Uhr\nZukunftsperspektiven der Universitätsklinik für Frauenheilkunde und Geburtshilfe des Campus Klinikum Lippe\nSektorenübergreifendes Netzwerk zur Qualitätssicherung bei gynäkologischen & senologischen Malignomen\n18.40 Uhr\nHot Topic: Endometriumkarzinom\n19.00 Uhr\nAustausch & anschließender Imbiss\n\nBitte melden Sie sich für unsere Planung per E-Mail oder mit der Anmeldekarte des Programmflyers bis zum 18. August 2023 für diese Veranstaltung an oder ab. \nFür die Fortbildung sind CME-Punkte bei der Ärztekammer Westfalen-Lippe beantragt. \nDiese Fortbildung wird unterstützt von GSK.
URL:https://www.klinikum-lippe.de/veranstaltung/gyn-update-2023/
LOCATION:Sudhaus Detmold\, Am Gelskamp 15a\, Detmold\, 32758
CATEGORIES:Experten,Frauenheilkunde und Geburtshilfe
ATTACH;FMTTYPE=image/png:https://www.klinikum-lippe.de/wp-content/uploads/2023/07/GYNUPDATE.png
ORGANIZER;CN="Universit%C3%A4tsklinik fu%CC%88r Frauenheilkunde und Geburtshilfe":MAILTO:frauenklinik@klinikum-lippe.de
END:VEVENT
BEGIN:VEVENT
DTSTART;TZID=Europe/Berlin:20230720T173000
DTEND;TZID=Europe/Berlin:20230720T191500
DTSTAMP:20260420T034102
CREATED:20230629T123446Z
LAST-MODIFIED:20241104T100912Z
UID:10000212-1689874200-1689880500@www.klinikum-lippe.de
SUMMARY:Brustkrebs: Von der Diagnose zur Hoffnung
DESCRIPTION:Liebe Patientinnen\,\nLiebe Angehörige\, \nverursacht das Wort „Krebs“ bei Ihnen auch ein ungutes Bauchgefühl? Aus unserer Sicht ist das ganz normal\, denn Krebserkrankungen sind weltweit eine der häufigsten Todesursachen und daher zurecht gefürchtet. \nGemäß den Zahlen des Deutschen Krebsregisters erkrankten im Jahr 2018 rund 265.000 Frauen neu an Krebs. Rund die Hälfte der bösartigen Tumore stammt dabei aus dem gynäkologischen Bereich\, allen voran Brustkrebs (Mammakarzinom)\, gefolgt von den Unterleibstumoren wie z.B. Gebärmutter-/Eierstock-/Gebärmutterhals- und Schamlippenkrebs. \nErfreulicherweise ergeben sich bei den verschiedenen weiblichen Krebserkrankungen stetig Verbesserungen der operativen und medikamentösen Behandlung\, durch die wir die Lebenserwartung und – ganz wichtig – die Lebensqualität für unsere Patientinnen auch nach einer Krebsdiagnose deutlich steigern können. \nStudien zeigen\, dass die Betreuung und Behandlung von Krebstumoren an spezialisierten Zentren auch in Deutschland einen deutlichen Einfluss auf die zwei Faktoren Überlebensrate und Lebensqualität hat. Daher freue ich mich\, dass ich Ihnen mit meinem Team und meiner langjährigen Erfahrung in der operativen und medikamentösen Behandlung jeglicher Krebserkrankungen der Frau nun auch hier in Lippe mit Rat und Tat zur Seite stehen darf. \nGerne möchte das Team der Universitätsklinik für Frauenheilkunde und Geburtshilfe Ihnen und Ihren Angehörigen zukünftig relevante Neuigkeiten und Informationen rund um das Themengebiet „Krebserkrankungen der Frau“ näher bringen. Hierzu bieten wir Ihnen verschiedene kostenlose Informationsmöglichkeiten\, zum Beispiel zu den Bereichen Prävention oder neue Krebstherapien an. \nHOT NEWS: Krebserkrankungen der Frau\nBrustkrebs: Von der Diagnose zur Hoffnung\n17.30 Uhr Begrüßung \n17.35 Uhr Gynäkologische Onkologie und Senologie am Klinikum Lippe: Wer und was steckt dahinter? \n18.05 Uhr Brustkrebs: Prävention\, Diagnose\, Therapie und Nachsorge am Brustzentrum Lippe \n18.55 Uhr Gemeinsamer Austausch \nZoom-Link zur Teilnahme: \nhttps://us02web.zoom.us/j/84361954588?pwd=MEF2SVR4WFBtOXN3QVZKQ0s0RDc5UT09 \nVeranstaltungsflyer \n  \nTechnische Voraussetzungen zur Teilnahme: \n\nStabile Internetverbindung auf Smartphone\, Tablet oder PC\nInstallierte\, kostenfreie Zoom-App oder aktuelle Version eines Internet-Browsers\nWebcam\, Lautsprecher oder Kopfhörer\, Mikrofon\n\nSonstige Hinweise: \n\nEs ist keine Anmeldung erforderlich.\nBitte berücksichtigen Sie\, dass Ihre Fragen / Chatbeiträge im Zoom-Meeting für alle Teilnehmer hör- und sichtbar sind.\nFür die Teilnahme sind die Nutzer selbst verantwortlich.\nBitte schalten Sie Ihr Mikro aus\, wenn Sie selbst gerade keinen Redebeitrag übernehmen.\nWenn Sie Fragen stellen möchten\, nutzen Sie dafür bitte die Funktion „Hand heben“.\nEs gelten die allgemeinen Netiquette-Regeln des Internets und der Sozialen Medien. Teilnehmer\, die sich in unangemessener Form äußern\, werden von den Moderatoren aus dem Zoom-Meeting ausgeschlossen.
URL:https://www.klinikum-lippe.de/veranstaltung/brustkrebs-von-der-diagnose-zur-hoffnung/
LOCATION:Online
ATTACH;FMTTYPE=image/png:https://www.klinikum-lippe.de/wp-content/uploads/2023/06/AdobeStock_12578769.png
ORGANIZER;CN="Universit%C3%A4tsklinik fu%CC%88r Frauenheilkunde und Geburtshilfe":MAILTO:frauenklinik@klinikum-lippe.de
END:VEVENT
END:VCALENDAR